BEGIN:VCALENDAR
VERSION:2.0
PRODID:-//VETERANS CLUB OF CELEBRATION - ECPv6.15.20//NONSGML v1.0//EN
CALSCALE:GREGORIAN
METHOD:PUBLISH
X-WR-CALNAME:VETERANS CLUB OF CELEBRATION
X-ORIGINAL-URL:https://celebrationveterans.com
X-WR-CALDESC:Events for VETERANS CLUB OF CELEBRATION
REFRESH-INTERVAL;VALUE=DURATION:PT1H
X-Robots-Tag:noindex
X-PUBLISHED-TTL:PT1H
BEGIN:VTIMEZONE
TZID:America/New_York
BEGIN:DAYLIGHT
TZOFFSETFROM:-0500
TZOFFSETTO:-0400
TZNAME:EDT
DTSTART:20230312T070000
END:DAYLIGHT
BEGIN:STANDARD
TZOFFSETFROM:-0400
TZOFFSETTO:-0500
TZNAME:EST
DTSTART:20231105T060000
END:STANDARD
BEGIN:DAYLIGHT
TZOFFSETFROM:-0500
TZOFFSETTO:-0400
TZNAME:EDT
DTSTART:20240310T070000
END:DAYLIGHT
BEGIN:STANDARD
TZOFFSETFROM:-0400
TZOFFSETTO:-0500
TZNAME:EST
DTSTART:20241103T060000
END:STANDARD
BEGIN:DAYLIGHT
TZOFFSETFROM:-0500
TZOFFSETTO:-0400
TZNAME:EDT
DTSTART:20250309T070000
END:DAYLIGHT
BEGIN:STANDARD
TZOFFSETFROM:-0400
TZOFFSETTO:-0500
TZNAME:EST
DTSTART:20251102T060000
END:STANDARD
END:VTIMEZONE
BEGIN:VEVENT
DTSTART;TZID=America/New_York:20240213T100000
DTEND;TZID=America/New_York:20240213T113000
DTSTAMP:20260422T182853
CREATED:20240206T053946Z
LAST-MODIFIED:20240206T062356Z
UID:751-1707818400-1707823800@celebrationveterans.com
SUMMARY:Veterans Outreach Committee Visitation
DESCRIPTION:The Veterans Club of Celebration Committee invites you to fellowship with a veteran who is sick or can no longer attend club activities. Would you like to serve on the Outreach Committee? \nThe tentative visitation dates are: \nFebruary 13\, 2024 at 10 A.M.\nMarch 26\, 2024\nMay 7\, 2024\nJune 18\, 2024\nAll Veterans and Auxiliary Members are invited to participate in this committee. Contact Committee Leader\, Jen Soles at (407) 624-9194 or email celebrationvets@outlook.com\, to let her know if you would like to attend this outing. \nThank you! \nJen Soles\nVCC Committee Chair
URL:https://celebrationveterans.com/event/veterans-outreach-committee-visitation/
LOCATION:FL
CATEGORIES:Meetings
ATTACH;FMTTYPE=image/jpeg:https://celebrationveterans.com/wp-content/uploads/2024/01/Veterans_outreach.jpg
ORGANIZER;CN="VCC Contributor":MAILTO:celebrationveterans@gmail.com
END:VEVENT
END:VCALENDAR