BEGIN:VCALENDAR
VERSION:2.0
PRODID:-//VETERANS CLUB OF CELEBRATION - ECPv6.15.20//NONSGML v1.0//EN
CALSCALE:GREGORIAN
METHOD:PUBLISH
X-WR-CALNAME:VETERANS CLUB OF CELEBRATION
X-ORIGINAL-URL:https://celebrationveterans.com
X-WR-CALDESC:Events for VETERANS CLUB OF CELEBRATION
REFRESH-INTERVAL;VALUE=DURATION:PT1H
X-Robots-Tag:noindex
X-PUBLISHED-TTL:PT1H
BEGIN:VTIMEZONE
TZID:America/New_York
BEGIN:DAYLIGHT
TZOFFSETFROM:-0500
TZOFFSETTO:-0400
TZNAME:EDT
DTSTART:20230312T070000
END:DAYLIGHT
BEGIN:STANDARD
TZOFFSETFROM:-0400
TZOFFSETTO:-0500
TZNAME:EST
DTSTART:20231105T060000
END:STANDARD
BEGIN:DAYLIGHT
TZOFFSETFROM:-0500
TZOFFSETTO:-0400
TZNAME:EDT
DTSTART:20240310T070000
END:DAYLIGHT
BEGIN:STANDARD
TZOFFSETFROM:-0400
TZOFFSETTO:-0500
TZNAME:EST
DTSTART:20241103T060000
END:STANDARD
BEGIN:DAYLIGHT
TZOFFSETFROM:-0500
TZOFFSETTO:-0400
TZNAME:EDT
DTSTART:20250309T070000
END:DAYLIGHT
BEGIN:STANDARD
TZOFFSETFROM:-0400
TZOFFSETTO:-0500
TZNAME:EST
DTSTART:20251102T060000
END:STANDARD
END:VTIMEZONE
BEGIN:VEVENT
DTSTART;TZID=America/New_York:20241125T090000
DTEND;TZID=America/New_York:20241125T113000
DTSTAMP:20260422T044609
CREATED:20241018T205055Z
LAST-MODIFIED:20241018T205055Z
UID:1932-1732525200-1732534200@celebrationveterans.com
SUMMARY:Trip: Cemetary Coins at Canaveral National Cemetary
DESCRIPTION:Please join us on Thursday\, November 25\, 2024 at 9:00 AM at the Celebration Town Hall building (851 Celebration Ave\, Celebration – see map below) for a trip to the Canaveral National Cemetary (click here for the cemetary location) for the traditional of laying coins on veteran’s gravestones.  Placing a coin on headstones of a service member or veteran is a show of respect and honor\, as well as letting the deceased service member’s family know someone was there. \nPlease confirm your attendance by contacting a Veterans Club of Celebration representative at our monthly meetings or contacting us by email. \nThe Cape Canaveral National Cemetery is a serene and tranquil final resting place\, nestled in the town of Mims\, Florida. As a part of the Department of Veterans Affairs’ National Cemetery Administration\, it serves as an important tribute to the service and sacrifice of the men and women who served in our country’s armed forces. The well-designed grounds of the cemetery cover an impressive 318 acres\, providing a combination of columbarium\, in-ground cremation\, and casket gravesites and serves the needs of more than 163\,000 veterans in the cemetery’s service area for the next 100 years. The cemetery offers a host of services including burials\, headstones\, markers\, and medallion services\, as well as Presidential Memorial Certificates. Visitors can pay their respects amidst a backdrop of native wildlife and pristine greenery\, reminding one of the ultimate sacrifices made by these brave heroes\, and the peace they’ve earned.
URL:https://celebrationveterans.com/event/trip-cemetary-coins-at-canaveral-national-cemetary-2/
LOCATION:Celebration Town Hall\, Building 851\, Celebration\, FL\, 34747\, United States
CATEGORIES:Event
ATTACH;FMTTYPE=image/jpeg:https://celebrationveterans.com/wp-content/uploads/2024/09/VCC_LC_20240923.jpg
ORGANIZER;CN="VCC Contributor":MAILTO:celebrationveterans@gmail.com
END:VEVENT
END:VCALENDAR