BEGIN:VCALENDAR
VERSION:2.0
PRODID:-//VETERANS CLUB OF CELEBRATION - ECPv6.15.20//NONSGML v1.0//EN
CALSCALE:GREGORIAN
METHOD:PUBLISH
X-ORIGINAL-URL:https://celebrationveterans.com
X-WR-CALDESC:Events for VETERANS CLUB OF CELEBRATION
REFRESH-INTERVAL;VALUE=DURATION:PT1H
X-Robots-Tag:noindex
X-PUBLISHED-TTL:PT1H
BEGIN:VTIMEZONE
TZID:America/New_York
BEGIN:DAYLIGHT
TZOFFSETFROM:-0500
TZOFFSETTO:-0400
TZNAME:EDT
DTSTART:20240310T070000
END:DAYLIGHT
BEGIN:STANDARD
TZOFFSETFROM:-0400
TZOFFSETTO:-0500
TZNAME:EST
DTSTART:20241103T060000
END:STANDARD
BEGIN:DAYLIGHT
TZOFFSETFROM:-0500
TZOFFSETTO:-0400
TZNAME:EDT
DTSTART:20250309T070000
END:DAYLIGHT
BEGIN:STANDARD
TZOFFSETFROM:-0400
TZOFFSETTO:-0500
TZNAME:EST
DTSTART:20251102T060000
END:STANDARD
BEGIN:DAYLIGHT
TZOFFSETFROM:-0500
TZOFFSETTO:-0400
TZNAME:EDT
DTSTART:20260308T070000
END:DAYLIGHT
BEGIN:STANDARD
TZOFFSETFROM:-0400
TZOFFSETTO:-0500
TZNAME:EST
DTSTART:20261101T060000
END:STANDARD
END:VTIMEZONE
BEGIN:VEVENT
DTSTART;TZID=America/New_York:20250131T093000
DTEND;TZID=America/New_York:20250131T133000
DTSTAMP:20260420T011428
CREATED:20241231T192607Z
LAST-MODIFIED:20241231T193029Z
UID:2340-1738315800-1738330200@celebrationveterans.com
SUMMARY:Women Veterans Tea Party
DESCRIPTION:Come join us for a delightful afternoon filled with tea\, treats\, and great company. This event is a special opportunity to connect with fellow women veterans and share stories over a cup of tea. We will be gathering at 13800 Veterans Way\, Lake Nona Auditorium (4th Floor) for this in-person event. This event is for women veterans only. Unfortunately\, we are unable to accommodate guests. Event date/time is January 31\, 2025 9:30 AM to 1:30 PM. \n\n\n\nClick here to reserve a spot. \n\n\n\nWhether you served in the Army\, Navy\, Air Force\, Marines\, or Coast Guard\, all women veterans are welcome to attend. Let’s celebrate our service and camaraderie in a relaxed and welcoming atmosphere. Don’t miss out on this chance to connect and unwind with your fellow women veterans!
URL:https://celebrationveterans.com/event/women-veterans-tea-party/
LOCATION:Lake Nona VA Medical Hospital\, 13800 Veterans Way\, Orlando\, FL\, 32817\, United States
CATEGORIES:Social event
ATTACH;FMTTYPE=image/jpeg:https://celebrationveterans.com/wp-content/uploads/2024/12/Womens-Veterans-Tea-Party.jpg
END:VEVENT
END:VCALENDAR