BEGIN:VCALENDAR
VERSION:2.0
PRODID:-//VETERANS CLUB OF CELEBRATION - ECPv6.15.20//NONSGML v1.0//EN
CALSCALE:GREGORIAN
METHOD:PUBLISH
X-ORIGINAL-URL:https://celebrationveterans.com
X-WR-CALDESC:Events for VETERANS CLUB OF CELEBRATION
REFRESH-INTERVAL;VALUE=DURATION:PT1H
X-Robots-Tag:noindex
X-PUBLISHED-TTL:PT1H
BEGIN:VTIMEZONE
TZID:America/New_York
BEGIN:DAYLIGHT
TZOFFSETFROM:-0500
TZOFFSETTO:-0400
TZNAME:EDT
DTSTART:20230312T070000
END:DAYLIGHT
BEGIN:STANDARD
TZOFFSETFROM:-0400
TZOFFSETTO:-0500
TZNAME:EST
DTSTART:20231105T060000
END:STANDARD
BEGIN:DAYLIGHT
TZOFFSETFROM:-0500
TZOFFSETTO:-0400
TZNAME:EDT
DTSTART:20240310T070000
END:DAYLIGHT
BEGIN:STANDARD
TZOFFSETFROM:-0400
TZOFFSETTO:-0500
TZNAME:EST
DTSTART:20241103T060000
END:STANDARD
BEGIN:DAYLIGHT
TZOFFSETFROM:-0500
TZOFFSETTO:-0400
TZNAME:EDT
DTSTART:20250309T070000
END:DAYLIGHT
BEGIN:STANDARD
TZOFFSETFROM:-0400
TZOFFSETTO:-0500
TZNAME:EST
DTSTART:20251102T060000
END:STANDARD
END:VTIMEZONE
BEGIN:VEVENT
DTSTART;TZID=America/New_York:20241206T170000
DTEND;TZID=America/New_York:20241206T190000
DTSTAMP:20260420T013237
CREATED:20241113T194427Z
LAST-MODIFIED:20241115T164956Z
UID:2034-1733504400-1733511600@celebrationveterans.com
SUMMARY:Happy Hour
DESCRIPTION:Join us for our Veterans Club Happy Hour at the Columbia Restaurant on December 6\, 2024 at 5 PM. Maximize your fun and frolics with the folks from the Veterans Club of Celebration with good food and humor! Put this event on your calendar! See the details on the Columbia Restaurant here. The Avocado Mexican Grill is located at 649 Front Street in Celebration. \nSign up for our December Happy Hour here!
URL:https://celebrationveterans.com/event/happy-hour/
LOCATION:Columbia Restaurant\, 649 Front Street\, Celebration\, FL\, 34747\, United States
CATEGORIES:Event
ATTACH;FMTTYPE=image/jpeg:https://celebrationveterans.com/wp-content/uploads/2024/11/9A5CF7E2-7B14-4A2C-9C44-F6AE07BF0248.jpeg
ORGANIZER;CN="VCC Contributor":MAILTO:celebrationveterans@gmail.com
END:VEVENT
BEGIN:VEVENT
DTSTART;TZID=America/New_York:20241209T000000
DTEND;TZID=America/New_York:20241209T235959
DTSTAMP:20260420T013237
CREATED:20241018T214746Z
LAST-MODIFIED:20241018T214746Z
UID:1956-1733702400-1733788799@celebrationveterans.com
SUMMARY:Last day for Holiday Decorating Contest Nominations
DESCRIPTION:This is your last day to nominate the best-dressed\, decorated\, and lit Celebration home.  A link pointing to our website holiday decorating nomination page will be posted between November 15\, 2024 and December 9\, 2024. \nBe prepared to see who wins!  Winners will be posted shortly after nominations are closed.  Good luck!
URL:https://celebrationveterans.com/event/last-day-for-holiday-decorating-contest-nominations/
LOCATION:FL
CATEGORIES:Event
ATTACH;FMTTYPE=image/jpeg:https://celebrationveterans.com/wp-content/uploads/2024/10/IMG_0247.jpeg
ORGANIZER;CN="VCC Contributor":MAILTO:celebrationveterans@gmail.com
END:VEVENT
BEGIN:VEVENT
DTSTART;TZID=America/New_York:20241225T000000
DTEND;TZID=America/New_York:20241225T235959
DTSTAMP:20260420T013237
CREATED:20241018T212917Z
LAST-MODIFIED:20241018T212917Z
UID:1949-1735084800-1735171199@celebrationveterans.com
SUMMARY:Merry Christmas
DESCRIPTION:
URL:https://celebrationveterans.com/event/merry-christmas/
LOCATION:FL
CATEGORIES:Event
ATTACH;FMTTYPE=image/jpeg:https://celebrationveterans.com/wp-content/uploads/2024/10/Merry-Christmas.jpeg
ORGANIZER;CN="VCC Contributor":MAILTO:celebrationveterans@gmail.com
END:VEVENT
END:VCALENDAR