BEGIN:VCALENDAR
VERSION:2.0
PRODID:-//VETERANS CLUB OF CELEBRATION - ECPv6.15.20//NONSGML v1.0//EN
CALSCALE:GREGORIAN
METHOD:PUBLISH
X-ORIGINAL-URL:https://celebrationveterans.com
X-WR-CALDESC:Events for VETERANS CLUB OF CELEBRATION
REFRESH-INTERVAL;VALUE=DURATION:PT1H
X-Robots-Tag:noindex
X-PUBLISHED-TTL:PT1H
BEGIN:VTIMEZONE
TZID:America/New_York
BEGIN:DAYLIGHT
TZOFFSETFROM:-0500
TZOFFSETTO:-0400
TZNAME:EDT
DTSTART:20240310T070000
END:DAYLIGHT
BEGIN:STANDARD
TZOFFSETFROM:-0400
TZOFFSETTO:-0500
TZNAME:EST
DTSTART:20241103T060000
END:STANDARD
BEGIN:DAYLIGHT
TZOFFSETFROM:-0500
TZOFFSETTO:-0400
TZNAME:EDT
DTSTART:20250309T070000
END:DAYLIGHT
BEGIN:STANDARD
TZOFFSETFROM:-0400
TZOFFSETTO:-0500
TZNAME:EST
DTSTART:20251102T060000
END:STANDARD
BEGIN:DAYLIGHT
TZOFFSETFROM:-0500
TZOFFSETTO:-0400
TZNAME:EDT
DTSTART:20260308T070000
END:DAYLIGHT
BEGIN:STANDARD
TZOFFSETFROM:-0400
TZOFFSETTO:-0500
TZNAME:EST
DTSTART:20261101T060000
END:STANDARD
END:VTIMEZONE
BEGIN:VEVENT
DTSTART;TZID=America/New_York:20250222T110000
DTEND;TZID=America/New_York:20250222T120000
DTSTAMP:20260419T235723
CREATED:20250124T172103Z
LAST-MODIFIED:20250124T172133Z
UID:2419-1740222000-1740225600@celebrationveterans.com
SUMMARY:Celebration Little League Opening Day Ceremony - First Pitch
DESCRIPTION:Join us throwing out the first pitch!  \nClick here to register for this event. \nThe Celebration Little League is proudly continuing its cherished tradition of honoring our nation’s heroes by inviting the Veterans Club of Celebration to their opening day ceremonies on Saturday\, February 22\, at 11:00 a.m. located by the Celebration K-8 ball field. This heartfelt gesture not only brings generations together but also serves as a reminder of the sacrifices that have paved the way for moments of joy like these. As part of this annual tradition\, a distinguished veteran will step onto the mound to throw out the first pitch\, symbolizing the unity and gratitude that define the spirit of Celebration. It’s a day where the love for baseball and the love for country come together in a truly memorable way.
URL:https://celebrationveterans.com/event/celebration-little-league-opening-day-ceremony-first-pitch/
LOCATION:Celebration K-8 Baseball Field\, 899 Celebration Ave\, Celebration\, FL\, 34747\, United States
CATEGORIES:Event
ATTACH;FMTTYPE=image/jpeg:https://celebrationveterans.com/wp-content/uploads/2025/01/Celebration-Little-League.jpg
ORGANIZER;CN="VCC Contributor":MAILTO:celebrationveterans@gmail.com
END:VEVENT
END:VCALENDAR