BEGIN:VCALENDAR
VERSION:2.0
PRODID:-//VETERANS CLUB OF CELEBRATION - ECPv6.15.20//NONSGML v1.0//EN
CALSCALE:GREGORIAN
METHOD:PUBLISH
X-ORIGINAL-URL:https://celebrationveterans.com
X-WR-CALDESC:Events for VETERANS CLUB OF CELEBRATION
REFRESH-INTERVAL;VALUE=DURATION:PT1H
X-Robots-Tag:noindex
X-PUBLISHED-TTL:PT1H
BEGIN:VTIMEZONE
TZID:America/New_York
BEGIN:DAYLIGHT
TZOFFSETFROM:-0500
TZOFFSETTO:-0400
TZNAME:EDT
DTSTART:20240310T070000
END:DAYLIGHT
BEGIN:STANDARD
TZOFFSETFROM:-0400
TZOFFSETTO:-0500
TZNAME:EST
DTSTART:20241103T060000
END:STANDARD
BEGIN:DAYLIGHT
TZOFFSETFROM:-0500
TZOFFSETTO:-0400
TZNAME:EDT
DTSTART:20250309T070000
END:DAYLIGHT
BEGIN:STANDARD
TZOFFSETFROM:-0400
TZOFFSETTO:-0500
TZNAME:EST
DTSTART:20251102T060000
END:STANDARD
BEGIN:DAYLIGHT
TZOFFSETFROM:-0500
TZOFFSETTO:-0400
TZNAME:EDT
DTSTART:20260308T070000
END:DAYLIGHT
BEGIN:STANDARD
TZOFFSETFROM:-0400
TZOFFSETTO:-0500
TZNAME:EST
DTSTART:20261101T060000
END:STANDARD
END:VTIMEZONE
BEGIN:VEVENT
DTSTART;TZID=America/New_York:20250916T090000
DTEND;TZID=America/New_York:20250916T110000
DTSTAMP:20260419T125304
CREATED:20241230T000407Z
LAST-MODIFIED:20250628T185851Z
UID:2255-1758013200-1758020400@celebrationveterans.com
SUMMARY:Outreach Visitation
DESCRIPTION:Please join us for our outreach visitation at the Windsor where we’ll be visiting our local veterans and give them the recognition they deserve! \nSign up here to confirm your attendance and we’ll coordinate the details with you. \nJoin in the respect and honor our veterans who served and join us!
URL:https://celebrationveterans.com/event/outreach-visitation-7/
LOCATION:Windsor at Celebration\, 1370 Celebration Blvd\, Celebration\, FL\, 34747\, United States
CATEGORIES:Event
ATTACH;FMTTYPE=image/jpeg:https://celebrationveterans.com/wp-content/uploads/2024/12/VeteransOutreach.jpg
ORGANIZER;CN="Veterans Outreach Comittee":MAILTO:celebrationvets@outlook.com
END:VEVENT
END:VCALENDAR