BEGIN:VCALENDAR
VERSION:2.0
PRODID:-//VETERANS CLUB OF CELEBRATION - ECPv6.15.20//NONSGML v1.0//EN
CALSCALE:GREGORIAN
METHOD:PUBLISH
X-ORIGINAL-URL:https://celebrationveterans.com
X-WR-CALDESC:Events for VETERANS CLUB OF CELEBRATION
REFRESH-INTERVAL;VALUE=DURATION:PT1H
X-Robots-Tag:noindex
X-PUBLISHED-TTL:PT1H
BEGIN:VTIMEZONE
TZID:America/New_York
BEGIN:DAYLIGHT
TZOFFSETFROM:-0500
TZOFFSETTO:-0400
TZNAME:EDT
DTSTART:20250309T070000
END:DAYLIGHT
BEGIN:STANDARD
TZOFFSETFROM:-0400
TZOFFSETTO:-0500
TZNAME:EST
DTSTART:20251102T060000
END:STANDARD
BEGIN:DAYLIGHT
TZOFFSETFROM:-0500
TZOFFSETTO:-0400
TZNAME:EDT
DTSTART:20260308T070000
END:DAYLIGHT
BEGIN:STANDARD
TZOFFSETFROM:-0400
TZOFFSETTO:-0500
TZNAME:EST
DTSTART:20261101T060000
END:STANDARD
BEGIN:DAYLIGHT
TZOFFSETFROM:-0500
TZOFFSETTO:-0400
TZNAME:EDT
DTSTART:20270314T070000
END:DAYLIGHT
BEGIN:STANDARD
TZOFFSETFROM:-0400
TZOFFSETTO:-0500
TZNAME:EST
DTSTART:20271107T060000
END:STANDARD
END:VTIMEZONE
BEGIN:VEVENT
DTSTART;TZID=America/New_York:20261118T090000
DTEND;TZID=America/New_York:20261118T130000
DTSTAMP:20260419T190417
CREATED:20251228T234519Z
LAST-MODIFIED:20251228T234519Z
UID:3320-1794992400-1795006800@celebrationveterans.com
SUMMARY:November 18\, 2026 Trip: Cemetery Coins at Canaveral National Cemetery
DESCRIPTION:Please join us on Wednesday\, November 18\, 2026 at 9 AM at the Celebration Town Hall building (851 Celebration Ave\, Celebration – see map below) for a trip to the Canaveral National Cemetery (click here for the cemetery location) for the traditional of laying coins on veteran’s gravestones. Placing a coin on headstones of a service member or veteran is a show of respect and honor\, as well as letting the deceased service member’s family know someone was there. \nClick here to sign up. \nThe Cape Canaveral National Cemetery is a serene and tranquil final resting place\, nestled in the town of Mims\, Florida. As a part of the Department of Veterans Affairs’ National Cemetery Administration\, it serves as an important tribute to the service and sacrifice of the men and women who served in our country’s armed forces. The well-designed grounds of the cemetery cover an impressive 318 acres\, providing a combination of columbarium\, in-ground cremation\, and casket gravesites and serves the needs of more than 163\,000 veterans in the cemetery’s service area for the next 100 years. The cemetery offers a host of services including burials\, headstones\, markers\, and medallion services\, as well as Presidential Memorial Certificates. Visitors can pay their respects amidst a backdrop of native wildlife and pristine greenery\, reminding one of the ultimate sacrifices made by these brave heroes\, and the peace they’ve earned.
URL:https://celebrationveterans.com/event/november-18-2026-trip-cemetery-coins-at-canaveral-national-cemetery/
LOCATION:Cape Canaveral Cemetary\, 5525 U.S. Highway 1\, North Mims\, FL\, 32754\, United States
CATEGORIES:Event
ATTACH;FMTTYPE=image/jpeg:https://celebrationveterans.com/wp-content/uploads/2025/12/November-18-Trip-Cemetery-Coins.jpg
ORGANIZER;CN="VCC Contributor":MAILTO:celebrationveterans@gmail.com
END:VEVENT
END:VCALENDAR