BEGIN:VCALENDAR
VERSION:2.0
PRODID:-//VETERANS CLUB OF CELEBRATION - ECPv6.15.20//NONSGML v1.0//EN
CALSCALE:GREGORIAN
METHOD:PUBLISH
X-ORIGINAL-URL:https://celebrationveterans.com
X-WR-CALDESC:Events for VETERANS CLUB OF CELEBRATION
REFRESH-INTERVAL;VALUE=DURATION:PT1H
X-Robots-Tag:noindex
X-PUBLISHED-TTL:PT1H
BEGIN:VTIMEZONE
TZID:America/New_York
BEGIN:DAYLIGHT
TZOFFSETFROM:-0500
TZOFFSETTO:-0400
TZNAME:EDT
DTSTART:20230312T070000
END:DAYLIGHT
BEGIN:STANDARD
TZOFFSETFROM:-0400
TZOFFSETTO:-0500
TZNAME:EST
DTSTART:20231105T060000
END:STANDARD
BEGIN:DAYLIGHT
TZOFFSETFROM:-0500
TZOFFSETTO:-0400
TZNAME:EDT
DTSTART:20240310T070000
END:DAYLIGHT
BEGIN:STANDARD
TZOFFSETFROM:-0400
TZOFFSETTO:-0500
TZNAME:EST
DTSTART:20241103T060000
END:STANDARD
BEGIN:DAYLIGHT
TZOFFSETFROM:-0500
TZOFFSETTO:-0400
TZNAME:EDT
DTSTART:20250309T070000
END:DAYLIGHT
BEGIN:STANDARD
TZOFFSETFROM:-0400
TZOFFSETTO:-0500
TZNAME:EST
DTSTART:20251102T060000
END:STANDARD
END:VTIMEZONE
BEGIN:VEVENT
DTSTART;TZID=America/New_York:20241010T180000
DTEND;TZID=America/New_York:20241010T200000
DTSTAMP:20260420T031306
CREATED:20240905T202904Z
LAST-MODIFIED:20241008T191801Z
UID:1692-1728583200-1728590400@celebrationveterans.com
SUMMARY:*** Cancelled *** October Monthly Meeting
DESCRIPTION:The Veterans Club of Celebration monthly meeting on Thursday\, October 10th in Heritage Hall on Thursday is cancelled due to hurricane Milton. We rescheduled our monthly meeting on October 17 at Windsor. \nClick here to see the new time and location.
URL:https://celebrationveterans.com/event/october-2024-monthly-meeting/
LOCATION:Heritage Hall in Celebration\, 1171 Celebration Ave\, Celebration\, FL\, 34747\, United States
CATEGORIES:Meetings
ORGANIZER;CN="VCC Contributor":MAILTO:celebrationveterans@gmail.com
END:VEVENT
BEGIN:VEVENT
DTSTART;TZID=America/New_York:20241017T180000
DTEND;TZID=America/New_York:20241017T200000
DTSTAMP:20260420T031306
CREATED:20241008T191616Z
LAST-MODIFIED:20241008T191616Z
UID:1834-1729188000-1729195200@celebrationveterans.com
SUMMARY:October Monthly Meeting
DESCRIPTION:Join us at our October 17\, 2024 membership meeting at Windsor in the Celebration Center (see the location on the map below).  All Veterans Club of Celebration members and new members are welcome.  Pizza social begins at 6:00 PM with the meeting starting at 6:30 PM.  We hope to see you there!
URL:https://celebrationveterans.com/event/october-monthly-meeting/
LOCATION:Windsor at Celebration\, 1370 Celebration Blvd\, Celebration\, FL\, 34747\, United States
CATEGORIES:Meetings
ORGANIZER;CN="VCC Contributor":MAILTO:celebrationveterans@gmail.com
END:VEVENT
END:VCALENDAR