BEGIN:VCALENDAR
VERSION:2.0
PRODID:-//VETERANS CLUB OF CELEBRATION - ECPv6.15.20//NONSGML v1.0//EN
CALSCALE:GREGORIAN
METHOD:PUBLISH
X-WR-CALNAME:VETERANS CLUB OF CELEBRATION
X-ORIGINAL-URL:https://celebrationveterans.com
X-WR-CALDESC:Events for VETERANS CLUB OF CELEBRATION
REFRESH-INTERVAL;VALUE=DURATION:PT1H
X-Robots-Tag:noindex
X-PUBLISHED-TTL:PT1H
BEGIN:VTIMEZONE
TZID:America/New_York
BEGIN:DAYLIGHT
TZOFFSETFROM:-0500
TZOFFSETTO:-0400
TZNAME:EDT
DTSTART:20230312T070000
END:DAYLIGHT
BEGIN:STANDARD
TZOFFSETFROM:-0400
TZOFFSETTO:-0500
TZNAME:EST
DTSTART:20231105T060000
END:STANDARD
BEGIN:DAYLIGHT
TZOFFSETFROM:-0500
TZOFFSETTO:-0400
TZNAME:EDT
DTSTART:20240310T070000
END:DAYLIGHT
BEGIN:STANDARD
TZOFFSETFROM:-0400
TZOFFSETTO:-0500
TZNAME:EST
DTSTART:20241103T060000
END:STANDARD
BEGIN:DAYLIGHT
TZOFFSETFROM:-0500
TZOFFSETTO:-0400
TZNAME:EDT
DTSTART:20250309T070000
END:DAYLIGHT
BEGIN:STANDARD
TZOFFSETFROM:-0400
TZOFFSETTO:-0500
TZNAME:EST
DTSTART:20251102T060000
END:STANDARD
END:VTIMEZONE
BEGIN:VEVENT
DTSTART;TZID=America/New_York:20241004T160000
DTEND;TZID=America/New_York:20241004T180000
DTSTAMP:20260422T062225
CREATED:20240905T202348Z
LAST-MODIFIED:20240905T202443Z
UID:1687-1728057600-1728064800@celebrationveterans.com
SUMMARY:Happy Hour at Celebration Brewing Company
DESCRIPTION:Join us for our “Team Building” at the Celebration Brewing Company on October 4\, 2024 at 4 PM. Maximize your fun and frolics with the folks from the Veterans Club of Celebration with good food and humor! Put this event on your calendar! \nLocation of the Celebration Brewing Company is shown below.  You can view their website here. \n \n 
URL:https://celebrationveterans.com/event/happy-hour-at-celebration-brewing-company/
LOCATION:Celebration Brewing Company\, 1601 Future Wy\, Celebration\, 34747\, United States
CATEGORIES:Social event
END:VEVENT
BEGIN:VEVENT
DTSTART;TZID=America/New_York:20241011T170000
DTEND;TZID=America/New_York:20241012T210000
DTSTAMP:20260422T062225
CREATED:20240905T203916Z
LAST-MODIFIED:20241007T162215Z
UID:1695-1728666000-1728766800@celebrationveterans.com
SUMMARY:Oktoberfest at the Shades of Green
DESCRIPTION:Get ready to raise your steins and celebrate in style at the Veterans Club of Celebration Oktoberfest at Shades of Green\, Disneyworld! Join us for a day of festive fun\, delicious food\, and traditional German music as we toast to good times and great company. Whether you’re a fan of bratwurst\, pretzels\, or just love a good Oktoberfest brew\, there’s something for everyone in this lively celebration! \nYou can attend either Friday’s or Saturday’s Shades of Green Oktoberfest.  Tickets are on sale NOW and are expected to sell out.  You can use the link below to purchase tickets. \nFriday Oktoberfest Tickets \nSaturday Oktoberfest Tickets \nCome dressed in your best lederhosen or dirndl (optional but fun!) and enjoy the vibrant atmosphere filled with laughter\, camaraderie\, and the joy of Oktoberfest. With exciting activities\, games\, and plenty of cheer\, this is an event you won’t want to miss. Prost to our veterans and a fantastic Oktoberfest at the most magical place on earth!
URL:https://celebrationveterans.com/event/oktoberfest-at-the-shades-of-green/
LOCATION:Shades of Green\, 1950 W Magnolia Palm Drive\, Lake Buena Vista\, FL\, 32830\, United States
CATEGORIES:Social event
ATTACH;FMTTYPE=image/png:https://celebrationveterans.com/wp-content/uploads/2024/09/Oktoberfest-.png
ORGANIZER;CN="VCC Contributor":MAILTO:celebrationveterans@gmail.com
END:VEVENT
END:VCALENDAR