BEGIN:VCALENDAR
VERSION:2.0
PRODID:-//VETERANS CLUB OF CELEBRATION - ECPv6.15.20//NONSGML v1.0//EN
CALSCALE:GREGORIAN
METHOD:PUBLISH
X-ORIGINAL-URL:https://celebrationveterans.com
X-WR-CALDESC:Events for VETERANS CLUB OF CELEBRATION
REFRESH-INTERVAL;VALUE=DURATION:PT1H
X-Robots-Tag:noindex
X-PUBLISHED-TTL:PT1H
BEGIN:VTIMEZONE
TZID:America/New_York
BEGIN:DAYLIGHT
TZOFFSETFROM:-0500
TZOFFSETTO:-0400
TZNAME:EDT
DTSTART:20230312T070000
END:DAYLIGHT
BEGIN:STANDARD
TZOFFSETFROM:-0400
TZOFFSETTO:-0500
TZNAME:EST
DTSTART:20231105T060000
END:STANDARD
BEGIN:DAYLIGHT
TZOFFSETFROM:-0500
TZOFFSETTO:-0400
TZNAME:EDT
DTSTART:20240310T070000
END:DAYLIGHT
BEGIN:STANDARD
TZOFFSETFROM:-0400
TZOFFSETTO:-0500
TZNAME:EST
DTSTART:20241103T060000
END:STANDARD
BEGIN:DAYLIGHT
TZOFFSETFROM:-0500
TZOFFSETTO:-0400
TZNAME:EDT
DTSTART:20250309T070000
END:DAYLIGHT
BEGIN:STANDARD
TZOFFSETFROM:-0400
TZOFFSETTO:-0500
TZNAME:EST
DTSTART:20251102T060000
END:STANDARD
END:VTIMEZONE
BEGIN:VEVENT
DTSTART;TZID=America/New_York:20241101T170000
DTEND;TZID=America/New_York:20241101T190000
DTSTAMP:20260422T045106
CREATED:20241018T153806Z
LAST-MODIFIED:20241018T155539Z
UID:1912-1730480400-1730487600@celebrationveterans.com
SUMMARY:Happy Hour at Avocado Mexican Grill
DESCRIPTION:Join us for our “Team Building” at the Avocado Mexican Grill on November 1\, 2024 at 5 PM. Maximize your fun and frolics with the folks from the Veterans Club of Celebration with good food and humor! Put this event on your calendar! See the details on the Avocado Mexican Grill here. The Avocado Mexican Grill is located 715 Bloom Street\, Celebration. View this event on the calendar. \n\n\n\nClick here to reserve your seats so we can get the right number of seats and tables.
URL:https://celebrationveterans.com/event/1912/
LOCATION:Avocado Mexican Grill\, 715 Bloom St\, Celebration\, 34747\, United States
CATEGORIES:Social event
ATTACH;FMTTYPE=image/jpeg:https://celebrationveterans.com/wp-content/uploads/2024/10/RSVP-Social-2024-11-01.jpg
ORGANIZER;CN="VCC Contributor":MAILTO:celebrationveterans@gmail.com
END:VEVENT
BEGIN:VEVENT
DTSTART;TZID=America/New_York:20241115T060000
DTEND;TZID=America/New_York:20241115T210000
DTSTAMP:20260422T045106
CREATED:20240905T222743Z
LAST-MODIFIED:20241113T191017Z
UID:1711-1731650400-1731704400@celebrationveterans.com
SUMMARY:Annual Holiday Banquet
DESCRIPTION:ALL TICKETS FOR THE HOLIDAY BANQUET HAVE BEEN SOLD. THANK ALL OF YOU FOR YOUR PARTICIPATION AND ENJOY THE PARTY! \n*** Update *** Please meet us at the Artisan Club House on November 15\, 2024 at 5:30 PM (1730 hours). Dinner will be served at 6:20 PM (1820 hours). \nJoin us on November 15\, 2024\, from 6:00 PM to 9:00 PM at the Artisan Club House for a festive evening filled with warmth\, joy\, and holiday cheer! \nIndulge in a delightful holiday buffet that will tantalize your taste buds as we come together to give thanks and celebrate the spirit of the season. Enjoy the lively sounds of music\, and don’t miss your chance to win exciting door prizes and participate in our festive raffles! \nThis is a wonderful opportunity to connect with friends and make new memories while embracing the true essence of Thanksgiving and Christmas. \nCost: $35 per person \nGather your loved ones and get ready for a night of fun and festivities. We can’t wait to celebrate the magic of the holidays with you! \nThe buffet menu includes: \n\nCesar Salad\nMediterranean Pasta Salad\nChicken Marsala\nGrilled Sliced Sirloin\nSeafood Scampi\nRoasted Herbed Red Potatoes\nFresh Seasonal Roasted Vegetables\nCheesecake\nCake (type to be determined)\nUnlimited soda\, lemonade\, ice tea\, coffee\, tea\, and ice water
URL:https://celebrationveterans.com/event/annual-holiday-banquet/
LOCATION:Heritage Hall in Celebration\, 1171 Celebration Ave\, Celebration\, FL\, 34747\, United States
CATEGORIES:Event,Social event
ATTACH;FMTTYPE=image/jpeg:https://celebrationveterans.com/wp-content/uploads/2024/09/Holiday_Banquet.jpg
ORGANIZER;CN="VCC Contributor":MAILTO:celebrationveterans@gmail.com
END:VEVENT
END:VCALENDAR