BEGIN:VCALENDAR
VERSION:2.0
PRODID:-//VETERANS CLUB OF CELEBRATION - ECPv6.15.20//NONSGML v1.0//EN
CALSCALE:GREGORIAN
METHOD:PUBLISH
X-WR-CALNAME:VETERANS CLUB OF CELEBRATION
X-ORIGINAL-URL:https://celebrationveterans.com
X-WR-CALDESC:Events for VETERANS CLUB OF CELEBRATION
REFRESH-INTERVAL;VALUE=DURATION:PT1H
X-Robots-Tag:noindex
X-PUBLISHED-TTL:PT1H
BEGIN:VTIMEZONE
TZID:America/New_York
BEGIN:DAYLIGHT
TZOFFSETFROM:-0500
TZOFFSETTO:-0400
TZNAME:EDT
DTSTART:20240310T070000
END:DAYLIGHT
BEGIN:STANDARD
TZOFFSETFROM:-0400
TZOFFSETTO:-0500
TZNAME:EST
DTSTART:20241103T060000
END:STANDARD
BEGIN:DAYLIGHT
TZOFFSETFROM:-0500
TZOFFSETTO:-0400
TZNAME:EDT
DTSTART:20250309T070000
END:DAYLIGHT
BEGIN:STANDARD
TZOFFSETFROM:-0400
TZOFFSETTO:-0500
TZNAME:EST
DTSTART:20251102T060000
END:STANDARD
BEGIN:DAYLIGHT
TZOFFSETFROM:-0500
TZOFFSETTO:-0400
TZNAME:EDT
DTSTART:20260308T070000
END:DAYLIGHT
BEGIN:STANDARD
TZOFFSETFROM:-0400
TZOFFSETTO:-0500
TZNAME:EST
DTSTART:20261101T060000
END:STANDARD
END:VTIMEZONE
BEGIN:VEVENT
DTSTART;TZID=America/New_York:20250502T160000
DTEND;TZID=America/New_York:20250502T180000
DTSTAMP:20260419T185008
CREATED:20241229T222340Z
LAST-MODIFIED:20250418T181048Z
UID:2197-1746201600-1746208800@celebrationveterans.com
SUMMARY:May 02 2025 Happy Hour
DESCRIPTION:The Veterans Club of Celebration invites you to join us on May 2\, 2025 at 4 PM for our monthly happy hour! We are getting dozens of our club veterans and families join us with lots of great food\, drinks\, conversations\, and laughter. May’s Happy Hour is located at the Celebration Town Tavern where there’s a super atmosphere and dining. \nClick Here to sign up! \n \n 
URL:https://celebrationveterans.com/event/may-02-2025-happy-hour/
LOCATION:Celebration Town Tavern\, 721 Front St\, Celebration\, FL\, 34747\, United States
CATEGORIES:Social event
ATTACH;FMTTYPE=image/png:https://celebrationveterans.com/wp-content/uploads/2025/04/My-project-e1744999407142.png
ORGANIZER;CN="VCC Contributor":MAILTO:celebrationveterans@gmail.com
END:VEVENT
BEGIN:VEVENT
DTSTART;TZID=America/New_York:20250524T113000
DTEND;TZID=America/New_York:20250524T130000
DTSTAMP:20260419T185008
CREATED:20241229T233225Z
LAST-MODIFIED:20250523T023426Z
UID:2229-1748086200-1748091600@celebrationveterans.com
SUMMARY:Memorial Day Ceremony Lunch
DESCRIPTION:With a very short notice\, the Applebees of Celebration has decided to closed its doors for good.  Due to Applebees closure\, we will be hosting the after-Memorial Day Ceremony luncheon event at the Celebration Brewing Company at 11:30 AM immediately following the Memorial Day Ceremony.  For those who signed up\, just head over to the Celebration Brewing Company.  We hope to see you there! \nSign up here for the Celebration Brewing Company lunch. \nClick here to see the location of Celebration Brewing Company. \n 
URL:https://celebrationveterans.com/event/memorial-day-ceremony-lunch/
LOCATION:Celebration Applebees\, 6290 W Irlo Bronson Memorial Hwy\,\, Celebration\, FL\, 34747\, United States
CATEGORIES:Social event
ATTACH;FMTTYPE=image/jpeg:https://celebrationveterans.com/wp-content/uploads/2025/05/IMG_0318-scaled.jpeg
ORGANIZER;CN="VCC Contributor":MAILTO:celebrationveterans@gmail.com
END:VEVENT
END:VCALENDAR