BEGIN:VCALENDAR
VERSION:2.0
PRODID:-//VETERANS CLUB OF CELEBRATION - ECPv6.15.20//NONSGML v1.0//EN
CALSCALE:GREGORIAN
METHOD:PUBLISH
X-ORIGINAL-URL:https://celebrationveterans.com
X-WR-CALDESC:Events for VETERANS CLUB OF CELEBRATION
REFRESH-INTERVAL;VALUE=DURATION:PT1H
X-Robots-Tag:noindex
X-PUBLISHED-TTL:PT1H
BEGIN:VTIMEZONE
TZID:America/New_York
BEGIN:DAYLIGHT
TZOFFSETFROM:-0500
TZOFFSETTO:-0400
TZNAME:EDT
DTSTART:20240310T070000
END:DAYLIGHT
BEGIN:STANDARD
TZOFFSETFROM:-0400
TZOFFSETTO:-0500
TZNAME:EST
DTSTART:20241103T060000
END:STANDARD
BEGIN:DAYLIGHT
TZOFFSETFROM:-0500
TZOFFSETTO:-0400
TZNAME:EDT
DTSTART:20250309T070000
END:DAYLIGHT
BEGIN:STANDARD
TZOFFSETFROM:-0400
TZOFFSETTO:-0500
TZNAME:EST
DTSTART:20251102T060000
END:STANDARD
BEGIN:DAYLIGHT
TZOFFSETFROM:-0500
TZOFFSETTO:-0400
TZNAME:EDT
DTSTART:20260308T070000
END:DAYLIGHT
BEGIN:STANDARD
TZOFFSETFROM:-0400
TZOFFSETTO:-0500
TZNAME:EST
DTSTART:20261101T060000
END:STANDARD
END:VTIMEZONE
BEGIN:VEVENT
DTSTART;TZID=America/New_York:20251003T160000
DTEND;TZID=America/New_York:20251003T180000
DTSTAMP:20260419T114307
CREATED:20241230T003736Z
LAST-MODIFIED:20250926T194018Z
UID:2273-1759507200-1759514400@celebrationveterans.com
SUMMARY:October 03 2025 Happy Hour
DESCRIPTION:Come and join us for food\, drink\, and conversation! Fun starts at 4 PM at the Celebration Town Tavern. See you there! \nClick Here to sign up! \n 
URL:https://celebrationveterans.com/event/october-03-2025-happy-hour/
LOCATION:FL
CATEGORIES:Social event
ATTACH;FMTTYPE=image/jpeg:https://celebrationveterans.com/wp-content/uploads/2024/12/Celebration-Town-Tavern2.jpg
ORGANIZER;CN="VCC Contributor":MAILTO:celebrationveterans@gmail.com
END:VEVENT
BEGIN:VEVENT
DTSTART;TZID=America/New_York:20251010T173000
DTEND;TZID=America/New_York:20251010T210000
DTSTAMP:20260419T114307
CREATED:20241230T004504Z
LAST-MODIFIED:20250926T194055Z
UID:2277-1760117400-1760130000@celebrationveterans.com
SUMMARY:Oktoberfest at Shades of Green (register now!)
DESCRIPTION:Get ready to raise your steins and celebrate in style at the Veterans Club of Celebration Oktoberfest at Shades of Green\, Disneyworld on October 10 from 5:00 PM to 9:00 PM! Join us for a day of festive fun\, delicious food\, and traditional German music as we toast to good times and great company. Whether you’re a fan of bratwurst\, pretzels\, or just love a good Oktoberfest brew\, there’s something for everyone in this lively celebration! \nRegister for the Oktoberfest\, Friday\, October 10\, 5 PM to 9 PM.
URL:https://celebrationveterans.com/event/oktober-fest-at-the-shades-of-green/
LOCATION:Shades of Green\, 1950 W Magnolia Palm Drive\, Lake Buena Vista\, FL\, 32830\, United States
CATEGORIES:Social event
ATTACH;FMTTYPE=image/jpeg:https://celebrationveterans.com/wp-content/uploads/2025/09/Oktoberfest-2025-2.jpg
ORGANIZER;CN="VCC Contributor":MAILTO:celebrationveterans@gmail.com
END:VEVENT
END:VCALENDAR