BEGIN:VCALENDAR
VERSION:2.0
PRODID:-//VETERANS CLUB OF CELEBRATION - ECPv6.15.20//NONSGML v1.0//EN
CALSCALE:GREGORIAN
METHOD:PUBLISH
X-ORIGINAL-URL:https://celebrationveterans.com
X-WR-CALDESC:Events for VETERANS CLUB OF CELEBRATION
REFRESH-INTERVAL;VALUE=DURATION:PT1H
X-Robots-Tag:noindex
X-PUBLISHED-TTL:PT1H
BEGIN:VTIMEZONE
TZID:America/New_York
BEGIN:DAYLIGHT
TZOFFSETFROM:-0500
TZOFFSETTO:-0400
TZNAME:EDT
DTSTART:20240310T070000
END:DAYLIGHT
BEGIN:STANDARD
TZOFFSETFROM:-0400
TZOFFSETTO:-0500
TZNAME:EST
DTSTART:20241103T060000
END:STANDARD
BEGIN:DAYLIGHT
TZOFFSETFROM:-0500
TZOFFSETTO:-0400
TZNAME:EDT
DTSTART:20250309T070000
END:DAYLIGHT
BEGIN:STANDARD
TZOFFSETFROM:-0400
TZOFFSETTO:-0500
TZNAME:EST
DTSTART:20251102T060000
END:STANDARD
BEGIN:DAYLIGHT
TZOFFSETFROM:-0500
TZOFFSETTO:-0400
TZNAME:EDT
DTSTART:20260308T070000
END:DAYLIGHT
BEGIN:STANDARD
TZOFFSETFROM:-0400
TZOFFSETTO:-0500
TZNAME:EST
DTSTART:20261101T060000
END:STANDARD
END:VTIMEZONE
BEGIN:VEVENT
DTSTART;TZID=America/New_York:20250207T160000
DTEND;TZID=America/New_York:20250207T190000
DTSTAMP:20260420T013638
CREATED:20241229T193600Z
LAST-MODIFIED:20250110T001704Z
UID:2122-1738944000-1738954800@celebrationveterans.com
SUMMARY:February 7 2025 Happy Hour
DESCRIPTION:Come and join us at the Celebration Brewing Company for food\, drink\, and conversation! Fun starts at 4 PM. See you there! \nClick Here to sign up!
URL:https://celebrationveterans.com/event/february-7-2025-happy-hour/
LOCATION:Celebration Brewing Company\, 1601 Future Wy\, Celebration\, 34747\, United States
CATEGORIES:Social event
ATTACH;FMTTYPE=image/jpeg:https://celebrationveterans.com/wp-content/uploads/2024/12/Feb-2025-Happy-Hour.jpg
ORGANIZER;CN="VCC Contributor":MAILTO:celebrationveterans@gmail.com
END:VEVENT
END:VCALENDAR