BEGIN:VCALENDAR
VERSION:2.0
PRODID:-//VETERANS CLUB OF CELEBRATION - ECPv6.15.20//NONSGML v1.0//EN
CALSCALE:GREGORIAN
METHOD:PUBLISH
X-ORIGINAL-URL:https://celebrationveterans.com
X-WR-CALDESC:Events for VETERANS CLUB OF CELEBRATION
REFRESH-INTERVAL;VALUE=DURATION:PT1H
X-Robots-Tag:noindex
X-PUBLISHED-TTL:PT1H
BEGIN:VTIMEZONE
TZID:America/New_York
BEGIN:DAYLIGHT
TZOFFSETFROM:-0500
TZOFFSETTO:-0400
TZNAME:EDT
DTSTART:20240310T070000
END:DAYLIGHT
BEGIN:STANDARD
TZOFFSETFROM:-0400
TZOFFSETTO:-0500
TZNAME:EST
DTSTART:20241103T060000
END:STANDARD
BEGIN:DAYLIGHT
TZOFFSETFROM:-0500
TZOFFSETTO:-0400
TZNAME:EDT
DTSTART:20250309T070000
END:DAYLIGHT
BEGIN:STANDARD
TZOFFSETFROM:-0400
TZOFFSETTO:-0500
TZNAME:EST
DTSTART:20251102T060000
END:STANDARD
BEGIN:DAYLIGHT
TZOFFSETFROM:-0500
TZOFFSETTO:-0400
TZNAME:EDT
DTSTART:20260308T070000
END:DAYLIGHT
BEGIN:STANDARD
TZOFFSETFROM:-0400
TZOFFSETTO:-0500
TZNAME:EST
DTSTART:20261101T060000
END:STANDARD
END:VTIMEZONE
BEGIN:VEVENT
DTSTART;TZID=America/New_York:20250927T090000
DTEND;TZID=America/New_York:20250927T110000
DTSTAMP:20260419T144519
CREATED:20241230T000732Z
LAST-MODIFIED:20250307T163757Z
UID:2257-1758963600-1758970800@celebrationveterans.com
SUMMARY:Bi-Annual Breakfast at Shades of Green
DESCRIPTION:Come and join your friends and comrades at the Shades of Green Resort Restaurant on February 15\, 2025 and September 27\, 2025 at 9:00 AM. This fantastic event should last for about 1.5 hours and is hosted by the Veterans Club of Celebration. The Shades of Green Resort is located on Disney property at 1950 W Magnolia Palm Drive\, Lake Buena Vista. It’s a fabulous location and all your buddies will be there so don’t forget to put this event on your calendar and join us! \n Click here to register \nBreakfast Buffet\n13 Hot Items Each Day\nOn the Buffet – Eggs / Bacon / Sausage / Corned Beef Hash / Breakfast Potatoes / Breakfast Pastries\nMade to Order – Waffles / Pancakes / Omelets\nAdults – $19.95 / Children 5-11 – $11.95 / Kids 2-4 – FREE with a paying adult. \nMake sure you sign up for this event. Let us know your intent to join us\, click here to register and you’ll be signed up!
URL:https://celebrationveterans.com/event/bi-annual-breakfast-at-shades-of-green-3/
LOCATION:Shades of Green\, 1950 W Magnolia Palm Drive\, Lake Buena Vista\, FL\, 32830\, United States
CATEGORIES:Social event
ATTACH;FMTTYPE=image/jpeg:https://celebrationveterans.com/wp-content/uploads/2024/02/shadesofgreen1.jpg
ORGANIZER;CN="VCC Contributor":MAILTO:celebrationveterans@gmail.com
END:VEVENT
END:VCALENDAR