BEGIN:VCALENDAR
VERSION:2.0
PRODID:-//VETERANS CLUB OF CELEBRATION - ECPv6.15.20//NONSGML v1.0//EN
CALSCALE:GREGORIAN
METHOD:PUBLISH
X-WR-CALNAME:VETERANS CLUB OF CELEBRATION
X-ORIGINAL-URL:https://celebrationveterans.com
X-WR-CALDESC:Events for VETERANS CLUB OF CELEBRATION
REFRESH-INTERVAL;VALUE=DURATION:PT1H
X-Robots-Tag:noindex
X-PUBLISHED-TTL:PT1H
BEGIN:VTIMEZONE
TZID:America/New_York
BEGIN:DAYLIGHT
TZOFFSETFROM:-0500
TZOFFSETTO:-0400
TZNAME:EDT
DTSTART:20250309T070000
END:DAYLIGHT
BEGIN:STANDARD
TZOFFSETFROM:-0400
TZOFFSETTO:-0500
TZNAME:EST
DTSTART:20251102T060000
END:STANDARD
BEGIN:DAYLIGHT
TZOFFSETFROM:-0500
TZOFFSETTO:-0400
TZNAME:EDT
DTSTART:20260308T070000
END:DAYLIGHT
BEGIN:STANDARD
TZOFFSETFROM:-0400
TZOFFSETTO:-0500
TZNAME:EST
DTSTART:20261101T060000
END:STANDARD
BEGIN:DAYLIGHT
TZOFFSETFROM:-0500
TZOFFSETTO:-0400
TZNAME:EDT
DTSTART:20270314T070000
END:DAYLIGHT
BEGIN:STANDARD
TZOFFSETFROM:-0400
TZOFFSETTO:-0500
TZNAME:EST
DTSTART:20271107T060000
END:STANDARD
END:VTIMEZONE
BEGIN:VEVENT
DTSTART;TZID=America/New_York:20261117T090000
DTEND;TZID=America/New_York:20261117T110000
DTSTAMP:20260419T180025
CREATED:20251228T222930Z
LAST-MODIFIED:20251228T222930Z
UID:3295-1794906000-1794913200@celebrationveterans.com
SUMMARY:November 17 2026 Veterans Outreach
DESCRIPTION:Please join us on November 17\, 2026 for our Veterans’ Outreach where we visit our veterans who cannot attend our events and deserve our respect and recognition. \nSign up here to confirm your attendance and we’ll coordinate the details with you.  Join in the respect and honor our veterans who served!
URL:https://celebrationveterans.com/event/november-17-2026-veterans-outreach/
LOCATION:FL
CATEGORIES:Social event
ATTACH;FMTTYPE=image/jpeg:https://celebrationveterans.com/wp-content/uploads/2025/12/November-17-2026-Veterans-Outreach.jpg
ORGANIZER;CN="VCC Contributor":MAILTO:celebrationveterans@gmail.com
END:VEVENT
BEGIN:VEVENT
DTSTART;TZID=America/New_York:20261204T160000
DTEND;TZID=America/New_York:20261204T170000
DTSTAMP:20260419T180025
CREATED:20251228T215422Z
LAST-MODIFIED:20251228T215422Z
UID:3282-1796400000-1796403600@celebrationveterans.com
SUMMARY:December 4 2026 Happy Hour
DESCRIPTION:Come and join us on December 4\, 2026 for food\, drink\, and merriment! Fun starts at 4 PM. See you there! \nDon’t worry\, we’re working on the location!  We’ll have it posted soon. \nClick Here to sign up!
URL:https://celebrationveterans.com/event/december-4-2026-happy-hour/
LOCATION:FL
CATEGORIES:Social event
ATTACH;FMTTYPE=image/jpeg:https://celebrationveterans.com/wp-content/uploads/2025/12/December-4-2026-Happy-Hour.jpg
ORGANIZER;CN="VCC Contributor":MAILTO:celebrationveterans@gmail.com
END:VEVENT
END:VCALENDAR