BEGIN:VCALENDAR
VERSION:2.0
PRODID:-//VETERANS CLUB OF CELEBRATION - ECPv6.15.20//NONSGML v1.0//EN
CALSCALE:GREGORIAN
METHOD:PUBLISH
X-ORIGINAL-URL:https://celebrationveterans.com
X-WR-CALDESC:Events for VETERANS CLUB OF CELEBRATION
REFRESH-INTERVAL;VALUE=DURATION:PT1H
X-Robots-Tag:noindex
X-PUBLISHED-TTL:PT1H
BEGIN:VTIMEZONE
TZID:America/New_York
BEGIN:DAYLIGHT
TZOFFSETFROM:-0500
TZOFFSETTO:-0400
TZNAME:EDT
DTSTART:20230312T070000
END:DAYLIGHT
BEGIN:STANDARD
TZOFFSETFROM:-0400
TZOFFSETTO:-0500
TZNAME:EST
DTSTART:20231105T060000
END:STANDARD
BEGIN:DAYLIGHT
TZOFFSETFROM:-0500
TZOFFSETTO:-0400
TZNAME:EDT
DTSTART:20240310T070000
END:DAYLIGHT
BEGIN:STANDARD
TZOFFSETFROM:-0400
TZOFFSETTO:-0500
TZNAME:EST
DTSTART:20241103T060000
END:STANDARD
BEGIN:DAYLIGHT
TZOFFSETFROM:-0500
TZOFFSETTO:-0400
TZNAME:EDT
DTSTART:20250309T070000
END:DAYLIGHT
BEGIN:STANDARD
TZOFFSETFROM:-0400
TZOFFSETTO:-0500
TZNAME:EST
DTSTART:20251102T060000
END:STANDARD
END:VTIMEZONE
BEGIN:VEVENT
DTSTART;TZID=America/New_York:20240405T170000
DTEND;TZID=America/New_York:20240405T190000
DTSTAMP:20260422T132446
CREATED:20240119T154519Z
LAST-MODIFIED:20240307T213234Z
UID:447-1712336400-1712343600@celebrationveterans.com
SUMMARY:April 2024 Happy Hour\, 5-7 PM\, Location: Artisan Park Club House
DESCRIPTION:Join us for our April 5th Happy Hour from 5 PM to 7 PM at the Artisan Park Club House. Join us for this happy event and maximize fun and frolics. Put this event on your calendar and join us\, you won’t regret it!
URL:https://celebrationveterans.com/event/april-happy-hour-location-tbd/
LOCATION:Artisan Park Club House\, 1343 Celebration Ave\, Celebration\, FL\, 34747\, United States
CATEGORIES:Social event
ATTACH;FMTTYPE=image/jpeg:https://celebrationveterans.com/wp-content/uploads/2024/01/creative-cloud-express.jpeg
ORGANIZER;CN="VCC Contributor":MAILTO:celebrationveterans@gmail.com
END:VEVENT
BEGIN:VEVENT
DTSTART;TZID=America/New_York:20240411T180000
DTEND;TZID=America/New_York:20240411T200000
DTSTAMP:20260422T132446
CREATED:20240119T164953Z
LAST-MODIFIED:20240206T064734Z
UID:450-1712858400-1712865600@celebrationveterans.com
SUMMARY:April 2024 Monthly Meeting
DESCRIPTION:Join us at our April 11\, 2024 membership meeting at Celebration Town Hall.  All Veterans Club of Celebration members and new members are welcome.  Social begins at 6:00 PM with the meeting starting at 6:30 PM.  We hope to see you there!
URL:https://celebrationveterans.com/event/450/
LOCATION:Celebration Town Hall\, Building 851\, Celebration\, FL\, 34747\, United States
CATEGORIES:Meetings
ATTACH;FMTTYPE=image/jpeg:https://celebrationveterans.com/wp-content/uploads/2024/01/04112024AprilMeeting.jpg
ORGANIZER;CN="VCC Contributor":MAILTO:celebrationveterans@gmail.com
END:VEVENT
BEGIN:VEVENT
DTSTART;TZID=America/New_York:20240420T000000
DTEND;TZID=America/New_York:20240420T235959
DTSTAMP:20260422T132446
CREATED:20240206T060814Z
LAST-MODIFIED:20240206T062032Z
UID:762-1713571200-1713657599@celebrationveterans.com
SUMMARY:Honor Flight orientation
DESCRIPTION:This is the orientation meeting for the Honor Flight members for April 20\, 2024 with location TBD.   \nFor more info on Honor Flight click here.
URL:https://celebrationveterans.com/event/honor-flight-orientation/
LOCATION:FL
ATTACH;FMTTYPE=image/jpeg:https://celebrationveterans.com/wp-content/uploads/2024/02/HonorFlight1.jpg
ORGANIZER;CN="VCC Contributor":MAILTO:celebrationveterans@gmail.com
END:VEVENT
BEGIN:VEVENT
DTSTART;TZID=America/New_York:20240427T000000
DTEND;TZID=America/New_York:20240427T235959
DTSTAMP:20260422T132446
CREATED:20240206T061048Z
LAST-MODIFIED:20240206T062013Z
UID:764-1714176000-1714262399@celebrationveterans.com
SUMMARY:Honor Flight flight day
DESCRIPTION:Honor flight participants will be departing and arriving back to Sanford International on April 27\, 2024. \nFor more information on Honor Flight\, go here.
URL:https://celebrationveterans.com/event/honor-flight-flight-day/
LOCATION:FL
ATTACH;FMTTYPE=image/jpeg:https://celebrationveterans.com/wp-content/uploads/2024/02/HonorFlight1.jpg
ORGANIZER;CN="VCC Contributor":MAILTO:celebrationveterans@gmail.com
END:VEVENT
END:VCALENDAR