BEGIN:VCALENDAR
VERSION:2.0
PRODID:-//VETERANS CLUB OF CELEBRATION - ECPv6.15.20//NONSGML v1.0//EN
CALSCALE:GREGORIAN
METHOD:PUBLISH
X-ORIGINAL-URL:https://celebrationveterans.com
X-WR-CALDESC:Events for VETERANS CLUB OF CELEBRATION
REFRESH-INTERVAL;VALUE=DURATION:PT1H
X-Robots-Tag:noindex
X-PUBLISHED-TTL:PT1H
BEGIN:VTIMEZONE
TZID:America/New_York
BEGIN:DAYLIGHT
TZOFFSETFROM:-0500
TZOFFSETTO:-0400
TZNAME:EDT
DTSTART:20230312T070000
END:DAYLIGHT
BEGIN:STANDARD
TZOFFSETFROM:-0400
TZOFFSETTO:-0500
TZNAME:EST
DTSTART:20231105T060000
END:STANDARD
BEGIN:DAYLIGHT
TZOFFSETFROM:-0500
TZOFFSETTO:-0400
TZNAME:EDT
DTSTART:20240310T070000
END:DAYLIGHT
BEGIN:STANDARD
TZOFFSETFROM:-0400
TZOFFSETTO:-0500
TZNAME:EST
DTSTART:20241103T060000
END:STANDARD
BEGIN:DAYLIGHT
TZOFFSETFROM:-0500
TZOFFSETTO:-0400
TZNAME:EDT
DTSTART:20250309T070000
END:DAYLIGHT
BEGIN:STANDARD
TZOFFSETFROM:-0400
TZOFFSETTO:-0500
TZNAME:EST
DTSTART:20251102T060000
END:STANDARD
END:VTIMEZONE
BEGIN:VEVENT
DTSTART;TZID=America/New_York:20240503T170000
DTEND;TZID=America/New_York:20240503T190000
DTSTAMP:20260422T115635
CREATED:20240119T170126Z
LAST-MODIFIED:20240502T162157Z
UID:461-1714755600-1714762800@celebrationveterans.com
SUMMARY:May 2024 Happy Hour\, Location: Avocado Mexican Grill
DESCRIPTION:Join us for our May 3rd\, 2024 Happy Hour at the Avocado Mexican Grill. We are narrowing down our choices of location and time of the happy hour to maximize fun and frolics. Put this event on your calendar.
URL:https://celebrationveterans.com/event/may-2024-happy-hour-location-tbd/
LOCATION:Avocado Mexican Grill\, 715 Bloom St\, Celebration\, 34747\, United States
CATEGORIES:Social event
ATTACH;FMTTYPE=image/jpeg:https://celebrationveterans.com/wp-content/uploads/2024/01/IMG_0236.jpeg
ORGANIZER;CN="VCC Contributor":MAILTO:celebrationveterans@gmail.com
END:VEVENT
BEGIN:VEVENT
DTSTART;TZID=America/New_York:20240507T100000
DTEND;TZID=America/New_York:20240507T120000
DTSTAMP:20260422T115635
CREATED:20240213T220743Z
LAST-MODIFIED:20240213T220743Z
UID:848-1715076000-1715083200@celebrationveterans.com
SUMMARY:Veterans Outreach Visit
DESCRIPTION:Please join us!  Send an email to celebrationveterans@gmail.com and join in the respect and honor our veterans who served.
URL:https://celebrationveterans.com/event/veterans-outreach-visit-2/
LOCATION:FL
ATTACH;FMTTYPE=image/jpeg:https://celebrationveterans.com/wp-content/uploads/2024/02/Outreach.jpg
ORGANIZER;CN="Veterans Outreach Comittee":MAILTO:celebrationvets@outlook.com
END:VEVENT
BEGIN:VEVENT
DTSTART;TZID=America/New_York:20240509T180000
DTEND;TZID=America/New_York:20240509T200000
DTSTAMP:20260422T115635
CREATED:20240119T165408Z
LAST-MODIFIED:20240508T205509Z
UID:454-1715277600-1715284800@celebrationveterans.com
SUMMARY:May 2024 Monthly Meeting *** moved to Heritage Hall ***
DESCRIPTION:*** May 9\, 2024 monthly meeting has been moved to Heritage Hall (1171 Celebration Ave\, Celebration *** \nThe HVAC (air conditioning) does not work at Town Hall. Therefore\, we are MOVING our meeting tomorrow night to Heritage Hall (1171 Celebration Ave\, Celebration). We will see you there at 6 pm.  The meeting will start at 6:30 pm.
URL:https://celebrationveterans.com/event/may-2024-monthly-meeting/
LOCATION:Heritage Hall in Celebration\, 1171 Celebration Ave\, Celebration\, FL\, 34747\, United States
CATEGORIES:Meetings
ATTACH;FMTTYPE=image/jpeg:https://celebrationveterans.com/wp-content/uploads/2024/05/IMG_0240-e1715200686975.jpeg
ORGANIZER;CN="VCC Contributor":MAILTO:celebrationveterans@gmail.com
END:VEVENT
BEGIN:VEVENT
DTSTART;TZID=America/New_York:20240511T110000
DTEND;TZID=America/New_York:20240511T130000
DTSTAMP:20260422T115635
CREATED:20240504T200050Z
LAST-MODIFIED:20240509T183907Z
UID:736-1715425200-1715432400@celebrationveterans.com
SUMMARY:2024 Annual Pig Roast
DESCRIPTION:﻿\nJoin our Annual Pig Roast on May 11 at 11:00 AM at the Celebration Lakeside Pavilion! All current Veterans Club of Celebration members are cordially invited! If you haven’t paid your dues for the year ($12) please feel free to pay them at the pig roast! \nDetails: \nDate: Saturday\, May 11 2024\nStart Time: 11:00 AM\nLocation: Celebration Lakeside Pavilion\nCost: Free to Veterans Club of Celebration members \nOther important dates and times: \nFriday 5/10/24:\n10h00 set up crew to transfer bricks from storage facility to Lakeside Park. (73 concrete cinder blocks HOO-AH) \nSaturday 5/11/24:\n06h00 cooking crew meet at Lakeside Park Jones Room\n09h30 set up crew meet at Lakeside Park Jones Room \nThis event is at Lakeside Park and starts promptly at 5/11/24 11h00.
URL:https://celebrationveterans.com/event/2024-annual-pig-roast/
LOCATION:Celebration Lakeside Pavilion\, 631 Sycamore St\, Celebration\, FL\, 34747\, United States
CATEGORIES:Social event
ATTACH;FMTTYPE=image/jpeg:https://celebrationveterans.com/wp-content/uploads/2024/05/Pigroast-1.jpg
ORGANIZER;CN="VCC Contributor":MAILTO:celebrationveterans@gmail.com
END:VEVENT
BEGIN:VEVENT
DTSTART;TZID=America/New_York:20240518T000000
DTEND;TZID=America/New_York:20240518T235959
DTSTAMP:20260422T115635
CREATED:20240206T061343Z
LAST-MODIFIED:20240206T061943Z
UID:766-1715990400-1716076799@celebrationveterans.com
SUMMARY:Honor Flight reunion
DESCRIPTION:The Honor Flight reunion is scheduled for May 18\, 2024 with location TBD. \nFor more info on Honor Flight\, go here.
URL:https://celebrationveterans.com/event/honor-flight-reunion/
LOCATION:FL
CATEGORIES:Event
ATTACH;FMTTYPE=image/jpeg:https://celebrationveterans.com/wp-content/uploads/2024/02/HonorFlight1.jpg
ORGANIZER;CN="VCC Contributor":MAILTO:celebrationveterans@gmail.com
END:VEVENT
BEGIN:VEVENT
DTSTART;TZID=America/New_York:20240525T100000
DTEND;TZID=America/New_York:20240525T110000
DTSTAMP:20260422T115635
CREATED:20240514T233204Z
LAST-MODIFIED:20240514T233657Z
UID:1246-1716631200-1716634800@celebrationveterans.com
SUMMARY:Memorial Day Flag Ceremony
DESCRIPTION:Please join us in celebrating Memorial Day at the Celebration Veterans Memorial on May 25\, 2024 at 10:00 AM.  All Celebration Veterans Club and Auxiliary members should wear their Celebration polo shirts and other proper attire. \n 
URL:https://celebrationveterans.com/event/memorial-day-flag-ceremony/
LOCATION:Celebration Veterans Memorial\, 841 Celebration Ave\, Celebration\, FL\, 34747\, United States
CATEGORIES:Event
ATTACH;FMTTYPE=image/jpeg:https://celebrationveterans.com/wp-content/uploads/2024/05/Celebration-Veteransl-Memorial.jpg
ORGANIZER;CN="VCC Contributor":MAILTO:celebrationveterans@gmail.com
END:VEVENT
END:VCALENDAR