BEGIN:VCALENDAR
VERSION:2.0
PRODID:-//VETERANS CLUB OF CELEBRATION - ECPv6.15.20//NONSGML v1.0//EN
CALSCALE:GREGORIAN
METHOD:PUBLISH
X-ORIGINAL-URL:https://celebrationveterans.com
X-WR-CALDESC:Events for VETERANS CLUB OF CELEBRATION
REFRESH-INTERVAL;VALUE=DURATION:PT1H
X-Robots-Tag:noindex
X-PUBLISHED-TTL:PT1H
BEGIN:VTIMEZONE
TZID:America/New_York
BEGIN:DAYLIGHT
TZOFFSETFROM:-0500
TZOFFSETTO:-0400
TZNAME:EDT
DTSTART:20230312T070000
END:DAYLIGHT
BEGIN:STANDARD
TZOFFSETFROM:-0400
TZOFFSETTO:-0500
TZNAME:EST
DTSTART:20231105T060000
END:STANDARD
BEGIN:DAYLIGHT
TZOFFSETFROM:-0500
TZOFFSETTO:-0400
TZNAME:EDT
DTSTART:20240310T070000
END:DAYLIGHT
BEGIN:STANDARD
TZOFFSETFROM:-0400
TZOFFSETTO:-0500
TZNAME:EST
DTSTART:20241103T060000
END:STANDARD
BEGIN:DAYLIGHT
TZOFFSETFROM:-0500
TZOFFSETTO:-0400
TZNAME:EDT
DTSTART:20250309T070000
END:DAYLIGHT
BEGIN:STANDARD
TZOFFSETFROM:-0400
TZOFFSETTO:-0500
TZNAME:EST
DTSTART:20251102T060000
END:STANDARD
END:VTIMEZONE
BEGIN:VEVENT
DTSTART;TZID=America/New_York:20240901T080000
DTEND;TZID=America/New_York:20240915T170000
DTSTAMP:20260422T062202
CREATED:20240905T223907Z
LAST-MODIFIED:20240905T224114Z
UID:1716-1725177600-1726419600@celebrationveterans.com
SUMMARY:Fall Fundraising Event
DESCRIPTION:The Veterans Club of Celebration is partnering with the Pampered Chef for our Fall fundraising event.   \nWe need your help! \nWe’re looking for volunteers with our fundraiser.  Please email celebrationvets@outlook.com if you can volunteer or contact a senior representative at our monthly meetings to help out with this important fundraising event.  Thanks for your participation! \n 
URL:https://celebrationveterans.com/event/fall-fundraising-event/
LOCATION:FL
CATEGORIES:Fundraising
ATTACH;FMTTYPE=image/jpeg:https://celebrationveterans.com/wp-content/uploads/2024/09/VCC_Pampered_Chef.jpg
ORGANIZER;CN="VCC Contributor":MAILTO:celebrationveterans@gmail.com
END:VEVENT
BEGIN:VEVENT
DTSTART;TZID=America/New_York:20240906T160000
DTEND;TZID=America/New_York:20240906T180000
DTSTAMP:20260422T062202
CREATED:20240905T191910Z
LAST-MODIFIED:20240905T202002Z
UID:1671-1725638400-1725645600@celebrationveterans.com
SUMMARY:Happy Hour at Applebees
DESCRIPTION:Join us for our “Team Building Exercise” at the Celebration Applebee’s on September 6\, 2024 at 4 PM. Maximize your fun and frolics with the folks from the Veterans Club of Celebration with good food and humor! Put this event on your calendar!
URL:https://celebrationveterans.com/event/september-6-2024-5-pm-team-building-exercise-at-applebees/
LOCATION:Celebration Applebees\, 6290 W Irlo Bronson Memorial Hwy\,\, Celebration\, FL\, 34747\, United States
CATEGORIES:Social event
ORGANIZER;CN="VCC Contributor":MAILTO:celebrationveterans@gmail.com
END:VEVENT
BEGIN:VEVENT
DTSTART;TZID=America/New_York:20240910T100000
DTEND;TZID=America/New_York:20240910T120000
DTSTAMP:20260422T062202
CREATED:20240213T221224Z
LAST-MODIFIED:20240213T221224Z
UID:854-1725962400-1725969600@celebrationveterans.com
SUMMARY:Veterans Outreach Visit
DESCRIPTION:Please join us!  Send an email to celebrationveterans@gmail.com and join in the respect and honor our veterans who served.
URL:https://celebrationveterans.com/event/veterans-outreach-visit-5/
LOCATION:FL
ATTACH;FMTTYPE=image/jpeg:https://celebrationveterans.com/wp-content/uploads/2024/02/Outreach.jpg
ORGANIZER;CN="Veterans Outreach Comittee":MAILTO:celebrationvets@outlook.com
END:VEVENT
BEGIN:VEVENT
DTSTART;TZID=America/New_York:20240912T180000
DTEND;TZID=America/New_York:20240912T200000
DTSTAMP:20260422T062202
CREATED:20240905T190603Z
LAST-MODIFIED:20240905T190603Z
UID:1668-1726164000-1726171200@celebrationveterans.com
SUMMARY:September 2024 Monthly Meeting
DESCRIPTION:Join us at our September 12\, 2024 membership meeting at Windsor in the Celebration Center (see the location on the map below).  All Veterans Club of Celebration members and new members are welcome.  Social begins at 6:00 PM with the meeting starting at 6:30 PM.  We hope to see you there!
URL:https://celebrationveterans.com/event/september-2024-monthly-meeting/
LOCATION:Windsor at Celebration\, 1370 Celebration Blvd\, Celebration\, FL\, 34747\, United States
CATEGORIES:Meetings
ATTACH;FMTTYPE=image/jpeg:https://celebrationveterans.com/wp-content/uploads/2024/09/VCC_MMM_20240912.jpg
ORGANIZER;CN="VCC Contributor":MAILTO:celebrationveterans@gmail.com
END:VEVENT
BEGIN:VEVENT
DTSTART;TZID=America/New_York:20240921T090000
DTEND;TZID=America/New_York:20240921T223000
DTSTAMP:20260422T062202
CREATED:20240905T192755Z
LAST-MODIFIED:20240905T192755Z
UID:1677-1726909200-1726957800@celebrationveterans.com
SUMMARY:Fall 2024 Bi-Annual Breakfast at Shades of Green
DESCRIPTION:Come and join your friends and comrades at the Shades of Green Resort Restaurant on September 21\, 2024 at 9:00 AM. This fantastic event should last for about 1.5 hours and is hosted by the Veterans Club of Celebration. The Shades of Green Resort is located on Disney property at 1950 W Magnolia Palm Drive\, Lake Buena Vista (see the map below). It’s a fabulous location and all your buddies will be there so don’t forget to put this event on your calendar and join us! \nMake sure you sign up for this event. Let us know your intent to join us and one of our meetings or email us at celebrationveterans@gmail.com and we’ll get you signed up.
URL:https://celebrationveterans.com/event/fall-2024-bi-annual-breakfast-at-shades-of-green/
LOCATION:Shades of Green\, 1950 W Magnolia Palm Drive\, Lake Buena Vista\, FL\, 32830\, United States
CATEGORIES:Social event
ORGANIZER;CN="VCC Contributor":MAILTO:celebrationveterans@gmail.com
END:VEVENT
BEGIN:VEVENT
DTSTART;TZID=America/New_York:20240921T220000
DTEND;TZID=America/New_York:20240921T230000
DTSTAMP:20260422T062202
CREATED:20240905T195055Z
LAST-MODIFIED:20240906T155324Z
UID:1680-1726956000-1726959600@celebrationveterans.com
SUMMARY:Honor Flight Welcoming Home Participants
DESCRIPTION:September 21st is going to be an amazing night for everyone near the Orlando area! Come join us at Orlando Airport Terminal B at 10 p.m. for the Honor Flight Welcome Home event to celebrate our U.S. Veterans in style. Let’s give them the warmest\, most cheerful Welcome Home ever! \nOur heroes are returning from a memorable trip to Washington\, D.C.\, where they visited monuments and memorials in their honor. Now\, it’s our turn to surprise them with love and appreciation! Bring your excitement\, friends\, family\, flags\, and signs to wave\, and don’t forget to wear your fun\, patriotic gear. Contact us during one of our meetings \, or email us at celebrationveterans@gmail.com where friendly volunteers will be there to assist you. All you need to bring is your enthusiasm\, big smile\, and if you’d like – a poster welcoming home our heroes! \nWe can’t wait to see all of you there to help make this Welcome Home the best one yet! Let’s fill the airport with cheers and show our veterans just how much they mean to us. \nMake it a group event! Bring your friends\, family\, neighbors\, and everyone in between. This celebration is open to everyone\, and we promise once you experience it\, you’ll want to come back again and again. It’s a simple way to give back\, and our veterans deserve every moment of it. 
URL:https://celebrationveterans.com/event/honor-flight-welcoming-home-participants/
LOCATION:Orlando International Airport\, 1 Jeff Fuqua Blvd\, Orlando\, FL\, 32827\, United States
END:VEVENT
BEGIN:VEVENT
DTSTART;TZID=America/New_York:20240923T090000
DTEND;TZID=America/New_York:20240923T130000
DTSTAMP:20260422T062202
CREATED:20240905T201001Z
LAST-MODIFIED:20240905T223235Z
UID:1684-1727082000-1727096400@celebrationveterans.com
SUMMARY:Trip: Cemetary Coins at Canaveral National Cemetary
DESCRIPTION:Please join us on Monday\, September 23\, 2024 at 9 AM at the Celebration Town Hall building (851 Celebration Ave\, Celebration – see map below) for a trip to the Canaveral National Cemetary (click here for the cemetary location) for the traditional of laying coins on veteran’s gravestones.  Placing a coin on headstones of a service member or veteran is a show of respect and honor\, as well as letting the deceased service member’s family know someone was there. \nPlease confirm your attendance by contacting a Veterans Club of Celebration representative at our monthly meetings or contacting us by email. \nThe Cape Canaveral National Cemetery is a serene and tranquil final resting place\, nestled in the town of Mims\, Florida. As a part of the Department of Veterans Affairs’ National Cemetery Administration\, it serves as an important tribute to the service and sacrifice of the men and women who served in our country’s armed forces. The well-designed grounds of the cemetery cover an impressive 318 acres\, providing a combination of columbarium\, in-ground cremation\, and casket gravesites and serves the needs of more than 163\,000 veterans in the cemetary’s service area for the next 100 years. The cemetery offers a host of services including burials\, headstones\, markers\, and medallion services\, as well as Presidential Memorial Certificates. Visitors can pay their respects amidst a backdrop of native wildlife and pristine greenery\, reminding one of the ultimate sacrifices made by these brave heroes\, and the peace they’ve earned.
URL:https://celebrationveterans.com/event/trip-cemetary-coins-at-canaveral-national-cemetary/
LOCATION:Celebration Town Hall\, Building 851\, Celebration\, FL\, 34747\, United States
CATEGORIES:Event
ORGANIZER;CN="VCC Contributor":MAILTO:celebrationveterans@gmail.com
END:VEVENT
END:VCALENDAR