BEGIN:VCALENDAR
VERSION:2.0
PRODID:-//VETERANS CLUB OF CELEBRATION - ECPv6.15.20//NONSGML v1.0//EN
CALSCALE:GREGORIAN
METHOD:PUBLISH
X-WR-CALNAME:VETERANS CLUB OF CELEBRATION
X-ORIGINAL-URL:https://celebrationveterans.com
X-WR-CALDESC:Events for VETERANS CLUB OF CELEBRATION
REFRESH-INTERVAL;VALUE=DURATION:PT1H
X-Robots-Tag:noindex
X-PUBLISHED-TTL:PT1H
BEGIN:VTIMEZONE
TZID:America/New_York
BEGIN:DAYLIGHT
TZOFFSETFROM:-0500
TZOFFSETTO:-0400
TZNAME:EDT
DTSTART:20230312T070000
END:DAYLIGHT
BEGIN:STANDARD
TZOFFSETFROM:-0400
TZOFFSETTO:-0500
TZNAME:EST
DTSTART:20231105T060000
END:STANDARD
BEGIN:DAYLIGHT
TZOFFSETFROM:-0500
TZOFFSETTO:-0400
TZNAME:EDT
DTSTART:20240310T070000
END:DAYLIGHT
BEGIN:STANDARD
TZOFFSETFROM:-0400
TZOFFSETTO:-0500
TZNAME:EST
DTSTART:20241103T060000
END:STANDARD
BEGIN:DAYLIGHT
TZOFFSETFROM:-0500
TZOFFSETTO:-0400
TZNAME:EDT
DTSTART:20250309T070000
END:DAYLIGHT
BEGIN:STANDARD
TZOFFSETFROM:-0400
TZOFFSETTO:-0500
TZNAME:EST
DTSTART:20251102T060000
END:STANDARD
END:VTIMEZONE
BEGIN:VEVENT
DTSTART;TZID=America/New_York:20241101T170000
DTEND;TZID=America/New_York:20241101T190000
DTSTAMP:20260420T042357
CREATED:20241018T153806Z
LAST-MODIFIED:20241018T155539Z
UID:1912-1730480400-1730487600@celebrationveterans.com
SUMMARY:Happy Hour at Avocado Mexican Grill
DESCRIPTION:Join us for our “Team Building” at the Avocado Mexican Grill on November 1\, 2024 at 5 PM. Maximize your fun and frolics with the folks from the Veterans Club of Celebration with good food and humor! Put this event on your calendar! See the details on the Avocado Mexican Grill here. The Avocado Mexican Grill is located 715 Bloom Street\, Celebration. View this event on the calendar. \n\n\n\nClick here to reserve your seats so we can get the right number of seats and tables.
URL:https://celebrationveterans.com/event/1912/
LOCATION:Avocado Mexican Grill\, 715 Bloom St\, Celebration\, 34747\, United States
CATEGORIES:Social event
ATTACH;FMTTYPE=image/jpeg:https://celebrationveterans.com/wp-content/uploads/2024/10/RSVP-Social-2024-11-01.jpg
ORGANIZER;CN="VCC Contributor":MAILTO:celebrationveterans@gmail.com
END:VEVENT
BEGIN:VEVENT
DTSTART;TZID=America/New_York:20241107T100000
DTEND;TZID=America/New_York:20241107T113000
DTSTAMP:20260420T042357
CREATED:20241018T210033Z
LAST-MODIFIED:20241018T210033Z
UID:1934-1730973600-1730979000@celebrationveterans.com
SUMMARY:First Academy Veterans and Grandparents Celebration
DESCRIPTION:(information from thefirstacademy.org website) \nThursday\, November 7\, 2024\, at 10:00 am\nFirst Orlando Worship Center – 3000 South John Young Parkway Orlando\, FL 32805\nThe First Academy will host a Veterans & Grandparents Celebration on Thursday\, November 7\, 2024\, at 10 am. A complimentary continental breakfast will also be held prior to the celebration for Veterans and their spouses. Veterans\, please RSVP here. \nThis combined celebration will be a day filled with gratitude\, joy\, and shared stories as we honor the service and sacrifices of our veterans\, and the wisdom and love of our grandparents. Whether you’re a veteran\, a grandparent\, or someone who simply wants to join in the festivities\, this will be a special day for everyone! \nThis schoolwide special event will include special tributes to our veterans and grandparent appreciation activities. Grandparents are invited to sit with their grandchildren for the celebration. Lower School grandparents may sit with their grandchild’s class. If Middle and Upper School grandparents would like to sit with their grandchild(ren)\, they may sign them out in First Orlando’s Gathering Place lobby prior to the start of the celebration at 9:50am with Mrs. Austin (Middle School Assistant) and then sit in one of the labeled “Open Seating” areas. \nFollowing the celebration\, grandparents with grandchildren in any of our TFA divisions are invited to sign out their grandchild(ren) to spend the rest of the day with them. We look forward to celebrating with you and creating lasting memories as we honor the legacy of our veterans and the generations of love our grandparents have shared.
URL:https://celebrationveterans.com/event/first-academy-veterans-and-grandparents-celebration/
LOCATION:First Baptist Church Orlando\, 3000 South John Young Parkway\, Orlando\, 32805\, United States
CATEGORIES:Event
ATTACH;FMTTYPE=image/jpeg:https://celebrationveterans.com/wp-content/uploads/2024/10/First-Academy-Celebration.jpg
ORGANIZER;CN="VCC Contributor":MAILTO:celebrationveterans@gmail.com
END:VEVENT
BEGIN:VEVENT
DTSTART;TZID=America/New_York:20241109T103000
DTEND;TZID=America/New_York:20241109T143000
DTSTAMP:20260420T042357
CREATED:20240905T220024Z
LAST-MODIFIED:20241018T211410Z
UID:1705-1731148200-1731162600@celebrationveterans.com
SUMMARY:Veterans Day Parade\, Ceremony\, and Luncheon
DESCRIPTION:The Veterans Club of Celebration warmly invites you to join us in honoring those who have served our great nation by participating in the Veterans Day Parade on November 9\, 2024 located at the Celebration Lakeside Pavillion Park Entrance at 10:30 AM and the Veterans Day Ceremony located at Founders Park at 11:00 AM. This is a heartfelt opportunity to show our gratitude to the brave men and women who have dedicated themselves to preserving the freedoms we hold dear. We will gather at the Celebration Lakeside Pavilion to coordinate activities before proudly marching in the parade\, standing united in support of our veterans.  After the ceremony\, we will meet for lunch at Celebration Applebees.  Join us for all or any of the events! \nSchedule of Events: \n\n10:30 AM – Veterans Day Parade\n11:00 AM – Veterans Ceremony\n12:30 AM – Lunch at Applebees\n\nClick here for your group to apply for the Celebration Veterans Day Parade \nIf you have any questions on the Veterans Day Parade\, please feel free to contact a Veterans Club of Celebration representative at our monthly meetings or by email. \nLet’s come together as a community to make this Veterans Day one to remember\, paying tribute to those who have given so much. Your participation not only honors our heroes but also helps inspire future generations to appreciate and uphold the values our veterans fought to protect. We encourage you to bring your families\, wear your Veterans of Celebration Club shirts\, and march with pride as we salute the true spirit of service and sacrifice. \n \n 
URL:https://celebrationveterans.com/event/veterans-day-parade/
LOCATION:Celebration Lakeside Pavilion\, 631 Sycamore St\, Celebration\, FL\, 34747\, United States
CATEGORIES:Event
ATTACH;FMTTYPE=image/jpeg:https://celebrationveterans.com/wp-content/uploads/2024/09/CVetDayParade.jpg
ORGANIZER;CN="VCC Contributor":MAILTO:celebrationveterans@gmail.com
END:VEVENT
BEGIN:VEVENT
DTSTART;TZID=America/New_York:20241111T000000
DTEND;TZID=America/New_York:20241111T235959
DTSTAMP:20260420T042357
CREATED:20241018T211730Z
LAST-MODIFIED:20241018T211730Z
UID:1941-1731283200-1731369599@celebrationveterans.com
SUMMARY:Veterans Day
DESCRIPTION:
URL:https://celebrationveterans.com/event/veterans-day/
LOCATION:FL
CATEGORIES:Event
ATTACH;FMTTYPE=image/jpeg:https://celebrationveterans.com/wp-content/uploads/2024/10/veterans-small-for-web.jpg
ORGANIZER;CN="VCC Contributor":MAILTO:celebrationveterans@gmail.com
END:VEVENT
BEGIN:VEVENT
DTSTART;TZID=America/New_York:20241115T000000
DTEND;TZID=America/New_York:20241115T235959
DTSTAMP:20260420T042357
CREATED:20241018T213908Z
LAST-MODIFIED:20241104T181037Z
UID:1954-1731628800-1731715199@celebrationveterans.com
SUMMARY:Start of nominations for the Holiday Decorating Contest
DESCRIPTION:You can nominate the best-dressed\, decorated\, and lit Celebration home! \nCome back here on November 15\, 2024 to see the link to the Holiday decorating contest page.  Decorate your home and be part of the fun!  Last day of nomination is December 3\, 2024.  Winners will be published on CelebrationVeterans.com website on December 8\, 2024.
URL:https://celebrationveterans.com/event/start-of-nominations-for-the-holiday-decorating-contest/
LOCATION:FL
CATEGORIES:Event
ATTACH;FMTTYPE=image/jpeg:https://celebrationveterans.com/wp-content/uploads/2024/10/IMG_0247.jpeg
ORGANIZER;CN="VCC Contributor":MAILTO:celebrationveterans@gmail.com
END:VEVENT
BEGIN:VEVENT
DTSTART;TZID=America/New_York:20241115T060000
DTEND;TZID=America/New_York:20241115T210000
DTSTAMP:20260420T042357
CREATED:20240905T222743Z
LAST-MODIFIED:20241113T191017Z
UID:1711-1731650400-1731704400@celebrationveterans.com
SUMMARY:Annual Holiday Banquet
DESCRIPTION:ALL TICKETS FOR THE HOLIDAY BANQUET HAVE BEEN SOLD. THANK ALL OF YOU FOR YOUR PARTICIPATION AND ENJOY THE PARTY! \n*** Update *** Please meet us at the Artisan Club House on November 15\, 2024 at 5:30 PM (1730 hours). Dinner will be served at 6:20 PM (1820 hours). \nJoin us on November 15\, 2024\, from 6:00 PM to 9:00 PM at the Artisan Club House for a festive evening filled with warmth\, joy\, and holiday cheer! \nIndulge in a delightful holiday buffet that will tantalize your taste buds as we come together to give thanks and celebrate the spirit of the season. Enjoy the lively sounds of music\, and don’t miss your chance to win exciting door prizes and participate in our festive raffles! \nThis is a wonderful opportunity to connect with friends and make new memories while embracing the true essence of Thanksgiving and Christmas. \nCost: $35 per person \nGather your loved ones and get ready for a night of fun and festivities. We can’t wait to celebrate the magic of the holidays with you! \nThe buffet menu includes: \n\nCesar Salad\nMediterranean Pasta Salad\nChicken Marsala\nGrilled Sliced Sirloin\nSeafood Scampi\nRoasted Herbed Red Potatoes\nFresh Seasonal Roasted Vegetables\nCheesecake\nCake (type to be determined)\nUnlimited soda\, lemonade\, ice tea\, coffee\, tea\, and ice water
URL:https://celebrationveterans.com/event/annual-holiday-banquet/
LOCATION:Heritage Hall in Celebration\, 1171 Celebration Ave\, Celebration\, FL\, 34747\, United States
CATEGORIES:Event,Social event
ATTACH;FMTTYPE=image/jpeg:https://celebrationveterans.com/wp-content/uploads/2024/09/Holiday_Banquet.jpg
ORGANIZER;CN="VCC Contributor":MAILTO:celebrationveterans@gmail.com
END:VEVENT
BEGIN:VEVENT
DTSTART;TZID=America/New_York:20241125T090000
DTEND;TZID=America/New_York:20241125T113000
DTSTAMP:20260420T042357
CREATED:20241018T205055Z
LAST-MODIFIED:20241018T205055Z
UID:1932-1732525200-1732534200@celebrationveterans.com
SUMMARY:Trip: Cemetary Coins at Canaveral National Cemetary
DESCRIPTION:Please join us on Thursday\, November 25\, 2024 at 9:00 AM at the Celebration Town Hall building (851 Celebration Ave\, Celebration – see map below) for a trip to the Canaveral National Cemetary (click here for the cemetary location) for the traditional of laying coins on veteran’s gravestones.  Placing a coin on headstones of a service member or veteran is a show of respect and honor\, as well as letting the deceased service member’s family know someone was there. \nPlease confirm your attendance by contacting a Veterans Club of Celebration representative at our monthly meetings or contacting us by email. \nThe Cape Canaveral National Cemetery is a serene and tranquil final resting place\, nestled in the town of Mims\, Florida. As a part of the Department of Veterans Affairs’ National Cemetery Administration\, it serves as an important tribute to the service and sacrifice of the men and women who served in our country’s armed forces. The well-designed grounds of the cemetery cover an impressive 318 acres\, providing a combination of columbarium\, in-ground cremation\, and casket gravesites and serves the needs of more than 163\,000 veterans in the cemetery’s service area for the next 100 years. The cemetery offers a host of services including burials\, headstones\, markers\, and medallion services\, as well as Presidential Memorial Certificates. Visitors can pay their respects amidst a backdrop of native wildlife and pristine greenery\, reminding one of the ultimate sacrifices made by these brave heroes\, and the peace they’ve earned.
URL:https://celebrationveterans.com/event/trip-cemetary-coins-at-canaveral-national-cemetary-2/
LOCATION:Celebration Town Hall\, Building 851\, Celebration\, FL\, 34747\, United States
CATEGORIES:Event
ATTACH;FMTTYPE=image/jpeg:https://celebrationveterans.com/wp-content/uploads/2024/09/VCC_LC_20240923.jpg
ORGANIZER;CN="VCC Contributor":MAILTO:celebrationveterans@gmail.com
END:VEVENT
BEGIN:VEVENT
DTSTART;TZID=America/New_York:20241128T000000
DTEND;TZID=America/New_York:20241128T235959
DTSTAMP:20260420T042357
CREATED:20241018T212008Z
LAST-MODIFIED:20241018T212008Z
UID:1944-1732752000-1732838399@celebrationveterans.com
SUMMARY:Happy Thanksgiving
DESCRIPTION:
URL:https://celebrationveterans.com/event/happy-thanksgiving/
LOCATION:FL
CATEGORIES:Event
ATTACH;FMTTYPE=image/jpeg:https://celebrationveterans.com/wp-content/uploads/2024/10/Happy-Thanksgiving.jpeg
ORGANIZER;CN="VCC Contributor":MAILTO:celebrationveterans@gmail.com
END:VEVENT
END:VCALENDAR