BEGIN:VCALENDAR
VERSION:2.0
PRODID:-//VETERANS CLUB OF CELEBRATION - ECPv6.15.20//NONSGML v1.0//EN
CALSCALE:GREGORIAN
METHOD:PUBLISH
X-WR-CALNAME:VETERANS CLUB OF CELEBRATION
X-ORIGINAL-URL:https://celebrationveterans.com
X-WR-CALDESC:Events for VETERANS CLUB OF CELEBRATION
REFRESH-INTERVAL;VALUE=DURATION:PT1H
X-Robots-Tag:noindex
X-PUBLISHED-TTL:PT1H
BEGIN:VTIMEZONE
TZID:America/New_York
BEGIN:DAYLIGHT
TZOFFSETFROM:-0500
TZOFFSETTO:-0400
TZNAME:EDT
DTSTART:20240310T070000
END:DAYLIGHT
BEGIN:STANDARD
TZOFFSETFROM:-0400
TZOFFSETTO:-0500
TZNAME:EST
DTSTART:20241103T060000
END:STANDARD
BEGIN:DAYLIGHT
TZOFFSETFROM:-0500
TZOFFSETTO:-0400
TZNAME:EDT
DTSTART:20250309T070000
END:DAYLIGHT
BEGIN:STANDARD
TZOFFSETFROM:-0400
TZOFFSETTO:-0500
TZNAME:EST
DTSTART:20251102T060000
END:STANDARD
BEGIN:DAYLIGHT
TZOFFSETFROM:-0500
TZOFFSETTO:-0400
TZNAME:EDT
DTSTART:20260308T070000
END:DAYLIGHT
BEGIN:STANDARD
TZOFFSETFROM:-0400
TZOFFSETTO:-0500
TZNAME:EST
DTSTART:20261101T060000
END:STANDARD
END:VTIMEZONE
BEGIN:VEVENT
DTSTART;TZID=America/New_York:20250205T090000
DTEND;TZID=America/New_York:20250205T180000
DTSTAMP:20260419T233540
CREATED:20241229T193257Z
LAST-MODIFIED:20241230T003430Z
UID:2120-1738746000-1738778400@celebrationveterans.com
SUMMARY:Trip: Cemetary Coins at Canaveral National Cemetary
DESCRIPTION:Please join us on Wednesday\, February 5 at 9 AM at the Celebration Town Hall building (851 Celebration Ave\, Celebration – see map below) for a trip to the Canaveral National Cemetary (click here for the cemetery location) for the traditional of laying coins on veteran’s gravestones. Placing a coin on headstones of a service member or veteran is a show of respect and honor\, as well as letting the deceased service member’s family know someone was there. \nClick here to sign up. \nThe Cape Canaveral National Cemetery is a serene and tranquil final resting place\, nestled in the town of Mims\, Florida. As a part of the Department of Veterans Affairs’ National Cemetery Administration\, it serves as an important tribute to the service and sacrifice of the men and women who served in our country’s armed forces. The well-designed grounds of the cemetery cover an impressive 318 acres\, providing a combination of columbarium\, in-ground cremation\, and casket gravesites and serves the needs of more than 163\,000 veterans in the cemetery’s service area for the next 100 years. The cemetery offers a host of services including burials\, headstones\, markers\, and medallion services\, as well as Presidential Memorial Certificates. Visitors can pay their respects amidst a backdrop of native wildlife and pristine greenery\, reminding one of the ultimate sacrifices made by these brave heroes\, and the peace they’ve earned.
URL:https://celebrationveterans.com/event/trip-cemetary-coins-at-canaveral-national-cemetary-3/
LOCATION:Cape Canaveral Cemetary\, 5525 U.S. Highway 1\, North Mims\, FL\, 32754\, United States
CATEGORIES:Event
ATTACH;FMTTYPE=image/jpeg:https://celebrationveterans.com/wp-content/uploads/2024/12/Cape-Canaveral-National-Cemetery.jpg
ORGANIZER;CN="VCC Contributor":MAILTO:celebrationveterans@gmail.com
END:VEVENT
BEGIN:VEVENT
DTSTART;TZID=America/New_York:20250207T160000
DTEND;TZID=America/New_York:20250207T190000
DTSTAMP:20260419T233540
CREATED:20241229T193600Z
LAST-MODIFIED:20250110T001704Z
UID:2122-1738944000-1738954800@celebrationveterans.com
SUMMARY:February 7 2025 Happy Hour
DESCRIPTION:Come and join us at the Celebration Brewing Company for food\, drink\, and conversation! Fun starts at 4 PM. See you there! \nClick Here to sign up!
URL:https://celebrationveterans.com/event/february-7-2025-happy-hour/
LOCATION:Celebration Brewing Company\, 1601 Future Wy\, Celebration\, 34747\, United States
CATEGORIES:Social event
ATTACH;FMTTYPE=image/jpeg:https://celebrationveterans.com/wp-content/uploads/2024/12/Feb-2025-Happy-Hour.jpg
ORGANIZER;CN="VCC Contributor":MAILTO:celebrationveterans@gmail.com
END:VEVENT
BEGIN:VEVENT
DTSTART;TZID=America/New_York:20250213T180000
DTEND;TZID=America/New_York:20250213T200000
DTSTAMP:20260419T233540
CREATED:20241229T193855Z
LAST-MODIFIED:20250202T132130Z
UID:2124-1739469600-1739476800@celebrationveterans.com
SUMMARY:February 13 2025 Monthly Meeting
DESCRIPTION:Join us at our February 13\, 2025 membership meeting at Windsor in the Celebration Center (see the location on the map below) in the Skybar on the top floor. All Veterans Club of Celebration members and new members are welcome. Pizza social begins at 6:00 PM with the meeting starting at 6:30 PM. We hope to see you there!
URL:https://celebrationveterans.com/event/february-13-2025-monthly-meeting/
LOCATION:Windsor at Celebration\, 1370 Celebration Blvd\, Celebration\, FL\, 34747\, United States
CATEGORIES:Meetings
ATTACH;FMTTYPE=image/jpeg:https://celebrationveterans.com/wp-content/uploads/2024/12/VeteransMonthlyMeeting.jpg
ORGANIZER;CN="VCC Contributor":MAILTO:celebrationveterans@gmail.com
END:VEVENT
BEGIN:VEVENT
DTSTART;TZID=America/New_York:20250215T090000
DTEND;TZID=America/New_York:20250215T110000
DTSTAMP:20260419T233540
CREATED:20241229T194632Z
LAST-MODIFIED:20241230T193441Z
UID:2126-1739610000-1739617200@celebrationveterans.com
SUMMARY:Bi-Annual Breakfast at Shades of Green
DESCRIPTION:Come and join your friends and comrades at the Shades of Green Resort Restaurant on February 15\, 2025 and September 20\, 2025 at 9:00 AM. This fantastic event should last for about 1.5 hours and is hosted by the Veterans Club of Celebration. The Shades of Green Resort is located on Disney property at 1950 W Magnolia Palm Drive\, Lake Buena Vista. Its a fabulous location and all your buddies will be there so don’t forget to put this event on your calendar and join us! \n Click here to register \nBreakfast Buffet\n13 Hot Items Each Day\nOn the Buffet – Eggs / Bacon / Sausage / Corned Beef Hash / Breakfast Potatoes / Breakfast Pastries\nMade to Order – Waffles / Pancakes / Omelets\nAdults – $19.95 / Children 5-11 – $11.95 / Kids 2-4 – FREE with a paying adult. \nMake sure you sign up for this event. Let us know your intent to join us\, click here to register and you’ll be signed up!
URL:https://celebrationveterans.com/event/bi-annual-breakfast-at-shades-of-green-2/
LOCATION:Shades of Green\, 1950 W Magnolia Palm Drive\, Lake Buena Vista\, FL\, 32830\, United States
CATEGORIES:Event
ATTACH;FMTTYPE=image/jpeg:https://celebrationveterans.com/wp-content/uploads/2024/02/shadesofgreen1.jpg
ORGANIZER;CN="VCC Contributor":MAILTO:celebrationveterans@gmail.com
END:VEVENT
BEGIN:VEVENT
DTSTART;TZID=America/New_York:20250217T000000
DTEND;TZID=America/New_York:20250217T235959
DTSTAMP:20260419T233540
CREATED:20241230T015648Z
LAST-MODIFIED:20241231T222208Z
UID:2313-1739750400-1739836799@celebrationveterans.com
SUMMARY:Washington's Birthday (President's Day)
DESCRIPTION:Third Monday in February \nHonors all past president of the US.\n(Also called Presidents’ Day) \nHistory and Old Observance \nGeorge Washington was born on Feb. 22\, 1732 according to the calendar we now use. But according to the Old Style Calendar then in use\, his birth date was Feb. 11. He led and encouraged his inexperienced armies against the British forces for 8 years until the colonies won their independence. He served as the first President of the US\, 1789-97\, and is affectionately called the father of his country. \nAmericans celebrated Washington’s birthday 1796\, while he was still alive\, some on the 11th and some on the 22nd. \nUntil 1971\, Feb. 22 was observed as a federal public holiday. In addition\, the birthday of Abraham Lincoln\, (see Lincoln’s Birthday)\, president during the Civil War (1861-65)\, was observed as a public holiday in most states. \n1971 President Richard Nixon declared that in order to honor all past presidents of the US\, a single holiday\, to be called Presidents’ Day\, would be observed on the 3rd Mon. in Feb. \nModern Observance \nVarious communities observe the holiday by staging pageants and reenactments of important milestones in Washington’s life. The commercial side is that many stores run P-Day sales.
URL:https://celebrationveterans.com/event/washingtons-birthday/
LOCATION:FL
CATEGORIES:Holiday
ATTACH;FMTTYPE=image/jpeg:https://celebrationveterans.com/wp-content/uploads/2024/12/Washingtons-Birthday.jpg
END:VEVENT
BEGIN:VEVENT
DTSTART;TZID=America/New_York:20250218T090000
DTEND;TZID=America/New_York:20250218T110000
DTSTAMP:20260419T233540
CREATED:20241229T200619Z
LAST-MODIFIED:20250107T151303Z
UID:2135-1739869200-1739876400@celebrationveterans.com
SUMMARY:Outreach Visitation
DESCRIPTION:Please join us! Sign up here to confirm your attendance and we’ll coordinate the details with you. Join in the respect and honor our veterans who served!
URL:https://celebrationveterans.com/event/outreach-visitation-2/
LOCATION:FL
CATEGORIES:Event
ATTACH;FMTTYPE=image/jpeg:https://celebrationveterans.com/wp-content/uploads/2024/12/VeteransOutreach.jpg
ORGANIZER;CN="Veterans Outreach Comittee":MAILTO:celebrationvets@outlook.com
END:VEVENT
BEGIN:VEVENT
DTSTART;TZID=America/New_York:20250222T110000
DTEND;TZID=America/New_York:20250222T120000
DTSTAMP:20260419T233540
CREATED:20250124T172103Z
LAST-MODIFIED:20250124T172133Z
UID:2419-1740222000-1740225600@celebrationveterans.com
SUMMARY:Celebration Little League Opening Day Ceremony - First Pitch
DESCRIPTION:Join us throwing out the first pitch!  \nClick here to register for this event. \nThe Celebration Little League is proudly continuing its cherished tradition of honoring our nation’s heroes by inviting the Veterans Club of Celebration to their opening day ceremonies on Saturday\, February 22\, at 11:00 a.m. located by the Celebration K-8 ball field. This heartfelt gesture not only brings generations together but also serves as a reminder of the sacrifices that have paved the way for moments of joy like these. As part of this annual tradition\, a distinguished veteran will step onto the mound to throw out the first pitch\, symbolizing the unity and gratitude that define the spirit of Celebration. It’s a day where the love for baseball and the love for country come together in a truly memorable way.
URL:https://celebrationveterans.com/event/celebration-little-league-opening-day-ceremony-first-pitch/
LOCATION:Celebration K-8 Baseball Field\, 899 Celebration Ave\, Celebration\, FL\, 34747\, United States
CATEGORIES:Event
ATTACH;FMTTYPE=image/jpeg:https://celebrationveterans.com/wp-content/uploads/2025/01/Celebration-Little-League.jpg
ORGANIZER;CN="VCC Contributor":MAILTO:celebrationveterans@gmail.com
END:VEVENT
END:VCALENDAR