BEGIN:VCALENDAR
VERSION:2.0
PRODID:-//VETERANS CLUB OF CELEBRATION - ECPv6.15.20//NONSGML v1.0//EN
CALSCALE:GREGORIAN
METHOD:PUBLISH
X-ORIGINAL-URL:https://celebrationveterans.com
X-WR-CALDESC:Events for VETERANS CLUB OF CELEBRATION
REFRESH-INTERVAL;VALUE=DURATION:PT1H
X-Robots-Tag:noindex
X-PUBLISHED-TTL:PT1H
BEGIN:VTIMEZONE
TZID:America/New_York
BEGIN:DAYLIGHT
TZOFFSETFROM:-0500
TZOFFSETTO:-0400
TZNAME:EDT
DTSTART:20240310T070000
END:DAYLIGHT
BEGIN:STANDARD
TZOFFSETFROM:-0400
TZOFFSETTO:-0500
TZNAME:EST
DTSTART:20241103T060000
END:STANDARD
BEGIN:DAYLIGHT
TZOFFSETFROM:-0500
TZOFFSETTO:-0400
TZNAME:EDT
DTSTART:20250309T070000
END:DAYLIGHT
BEGIN:STANDARD
TZOFFSETFROM:-0400
TZOFFSETTO:-0500
TZNAME:EST
DTSTART:20251102T060000
END:STANDARD
BEGIN:DAYLIGHT
TZOFFSETFROM:-0500
TZOFFSETTO:-0400
TZNAME:EDT
DTSTART:20260308T070000
END:DAYLIGHT
BEGIN:STANDARD
TZOFFSETFROM:-0400
TZOFFSETTO:-0500
TZNAME:EST
DTSTART:20261101T060000
END:STANDARD
END:VTIMEZONE
BEGIN:VEVENT
DTSTART;TZID=America/New_York:20250404T160000
DTEND;TZID=America/New_York:20250404T180000
DTSTAMP:20260419T201843
CREATED:20241229T215746Z
LAST-MODIFIED:20250320T003130Z
UID:2179-1743782400-1743789600@celebrationveterans.com
SUMMARY:April 04 2025 Happy Hour
DESCRIPTION:Come and join us at the Inn at Celebration for food\, drink\, and conversation at the Columbia Restaurant in Celebration! Fun starts at 4 PM. See you there! \nClick Here to sign up!
URL:https://celebrationveterans.com/event/april-04-2025-happy-hour/
LOCATION:Columbia Restaurant\, 649 Front Street\, Celebration\, FL\, 34747\, United States
CATEGORIES:Social event
ATTACH;FMTTYPE=image/jpeg:https://celebrationveterans.com/wp-content/uploads/2025/03/IMG_0296.jpeg
ORGANIZER;CN="VCC Contributor":MAILTO:celebrationveterans@gmail.com
END:VEVENT
BEGIN:VEVENT
DTSTART;TZID=America/New_York:20250409T090000
DTEND;TZID=America/New_York:20250409T130000
DTSTAMP:20260419T201843
CREATED:20241229T221504Z
LAST-MODIFIED:20250404T153445Z
UID:2181-1744189200-1744203600@celebrationveterans.com
SUMMARY:Trip: Cemetary Coins at Canaveral National Cemetary
DESCRIPTION:Please join us on Wednesday\, April 09 at 9 AM at the Celebration Town Hall building (851 Celebration Ave\, Celebration – see map below) for a trip to the Canaveral National Cemetary (click here for the cemetery location) for the traditional of laying coins on veteran’s gravestones. Placing a coin on headstones of a service member or veteran is a show of respect and honor\, as well as letting the deceased service member’s family know someone was there. \nClick here to sign up. \nThe Cape Canaveral National Cemetery is a serene and tranquil final resting place\, nestled in the town of Mims\, Florida. As a part of the Department of Veterans Affairs’ National Cemetery Administration\, it serves as an important tribute to the service and sacrifice of the men and women who served in our country’s armed forces. The well-designed grounds of the cemetery cover an impressive 318 acres\, providing a combination of columbarium\, in-ground cremation\, and casket gravesites and serves the needs of more than 163\,000 veterans in the cemetery’s service area for the next 100 years. The cemetery offers a host of services including burials\, headstones\, markers\, and medallion services\, as well as Presidential Memorial Certificates. Visitors can pay their respects amidst a backdrop of native wildlife and pristine greenery\, reminding one of the ultimate sacrifices made by these brave heroes\, and the peace they’ve earned.
URL:https://celebrationveterans.com/event/trip-cemetary-coins-at-canaveral-national-cemetary-4/
LOCATION:Cape Canaveral Cemetary\, 5525 U.S. Highway 1\, North Mims\, FL\, 32754\, United States
CATEGORIES:Event
ATTACH;FMTTYPE=image/jpeg:https://celebrationveterans.com/wp-content/uploads/2025/04/April-2025-Coins.jpg
ORGANIZER;CN="VCC Contributor":MAILTO:celebrationveterans@gmail.com
END:VEVENT
BEGIN:VEVENT
DTSTART;TZID=America/New_York:20250410T180000
DTEND;TZID=America/New_York:20250410T200000
DTSTAMP:20260419T201843
CREATED:20241229T222010Z
LAST-MODIFIED:20241230T194811Z
UID:2193-1744308000-1744315200@celebrationveterans.com
SUMMARY:April 10 2025 Monthly Meeting
DESCRIPTION:Join us at our April 10\, 2025 membership meeting at Windsor in the Celebration Center (see the location on the map below).  All Veterans Club of Celebration members and new members are welcome.  Pizza social begins at 6:00 PM with the meeting starting at 6:30 PM.  We hope to see you there!
URL:https://celebrationveterans.com/event/april-10-2025-monthly-meeting/
LOCATION:Windsor at Celebration\, 1370 Celebration Blvd\, Celebration\, FL\, 34747\, United States
CATEGORIES:Meetings
ATTACH;FMTTYPE=image/jpeg:https://celebrationveterans.com/wp-content/uploads/2024/12/2025-04-10-Monthly-Meeting.jpg
ORGANIZER;CN="VCC Contributor":MAILTO:celebrationveterans@gmail.com
END:VEVENT
END:VCALENDAR