BEGIN:VCALENDAR
VERSION:2.0
PRODID:-//VETERANS CLUB OF CELEBRATION - ECPv6.15.20//NONSGML v1.0//EN
CALSCALE:GREGORIAN
METHOD:PUBLISH
X-WR-CALNAME:VETERANS CLUB OF CELEBRATION
X-ORIGINAL-URL:https://celebrationveterans.com
X-WR-CALDESC:Events for VETERANS CLUB OF CELEBRATION
REFRESH-INTERVAL;VALUE=DURATION:PT1H
X-Robots-Tag:noindex
X-PUBLISHED-TTL:PT1H
BEGIN:VTIMEZONE
TZID:America/New_York
BEGIN:DAYLIGHT
TZOFFSETFROM:-0500
TZOFFSETTO:-0400
TZNAME:EDT
DTSTART:20240310T070000
END:DAYLIGHT
BEGIN:STANDARD
TZOFFSETFROM:-0400
TZOFFSETTO:-0500
TZNAME:EST
DTSTART:20241103T060000
END:STANDARD
BEGIN:DAYLIGHT
TZOFFSETFROM:-0500
TZOFFSETTO:-0400
TZNAME:EDT
DTSTART:20250309T070000
END:DAYLIGHT
BEGIN:STANDARD
TZOFFSETFROM:-0400
TZOFFSETTO:-0500
TZNAME:EST
DTSTART:20251102T060000
END:STANDARD
BEGIN:DAYLIGHT
TZOFFSETFROM:-0500
TZOFFSETTO:-0400
TZNAME:EDT
DTSTART:20260308T070000
END:DAYLIGHT
BEGIN:STANDARD
TZOFFSETFROM:-0400
TZOFFSETTO:-0500
TZNAME:EST
DTSTART:20261101T060000
END:STANDARD
END:VTIMEZONE
BEGIN:VEVENT
DTSTART;TZID=America/New_York:20250704T073000
DTEND;TZID=America/New_York:20250704T093000
DTSTAMP:20260419T154126
CREATED:20241229T235835Z
LAST-MODIFIED:20250628T185637Z
UID:2244-1751614200-1751621400@celebrationveterans.com
SUMMARY:4th of July Parade (time change)
DESCRIPTION:Participate in the 2025 4th of July Parade spectacular in Celebration.  All Veterans Club of Celebration members are welcome to attend.  We will do our best to have our members ride for those who need or would like to ride.  Walking is always assured! \n*** TIME CHANGE *** \nFor those driving NEV (neighborhood electric vehicles) in the parade\, please show up at 7:15 AM at building 851 in Celebration. \nFor all other Veterans Club of Celebration members\, please arrive no later than 7:30 AM at building 851 in Celebration. \nClick here to register for the 4th of July Parade. \nLast year’s 4th of July Parade spectacular was fun and awesome!  Click here to view the pictures. \n 
URL:https://celebrationveterans.com/event/4th-of-july-parade/
LOCATION:Celebration Town Hall\, Building 851\, Celebration\, FL\, 34747\, United States
CATEGORIES:Event
ATTACH;FMTTYPE=image/jpeg:https://celebrationveterans.com/wp-content/uploads/2025/06/4thFacebookParade.jpg
ORGANIZER;CN="VCC Contributor":MAILTO:celebrationveterans@gmail.com
END:VEVENT
END:VCALENDAR