BEGIN:VCALENDAR
VERSION:2.0
PRODID:-//VETERANS CLUB OF CELEBRATION - ECPv6.15.20//NONSGML v1.0//EN
CALSCALE:GREGORIAN
METHOD:PUBLISH
X-WR-CALNAME:VETERANS CLUB OF CELEBRATION
X-ORIGINAL-URL:https://celebrationveterans.com
X-WR-CALDESC:Events for VETERANS CLUB OF CELEBRATION
REFRESH-INTERVAL;VALUE=DURATION:PT1H
X-Robots-Tag:noindex
X-PUBLISHED-TTL:PT1H
BEGIN:VTIMEZONE
TZID:America/New_York
BEGIN:DAYLIGHT
TZOFFSETFROM:-0500
TZOFFSETTO:-0400
TZNAME:EDT
DTSTART:20240310T070000
END:DAYLIGHT
BEGIN:STANDARD
TZOFFSETFROM:-0400
TZOFFSETTO:-0500
TZNAME:EST
DTSTART:20241103T060000
END:STANDARD
BEGIN:DAYLIGHT
TZOFFSETFROM:-0500
TZOFFSETTO:-0400
TZNAME:EDT
DTSTART:20250309T070000
END:DAYLIGHT
BEGIN:STANDARD
TZOFFSETFROM:-0400
TZOFFSETTO:-0500
TZNAME:EST
DTSTART:20251102T060000
END:STANDARD
BEGIN:DAYLIGHT
TZOFFSETFROM:-0500
TZOFFSETTO:-0400
TZNAME:EDT
DTSTART:20260308T070000
END:DAYLIGHT
BEGIN:STANDARD
TZOFFSETFROM:-0400
TZOFFSETTO:-0500
TZNAME:EST
DTSTART:20261101T060000
END:STANDARD
END:VTIMEZONE
BEGIN:VEVENT
DTSTART;TZID=America/New_York:20250905T160000
DTEND;TZID=America/New_York:20250905T180000
DTSTAMP:20260419T124709
CREATED:20241230T000234Z
LAST-MODIFIED:20250904T162622Z
UID:2253-1757088000-1757095200@celebrationveterans.com
SUMMARY:September 5 2025 Happy Hour
DESCRIPTION:Come and join us at the Inn at Celebration for food\, drink\, and conversation at the Columbia Restaurant in Celebration! Fun starts at 4 PM. See you there! \nClick Here to sign up!
URL:https://celebrationveterans.com/event/september-5-2025-happy-hour/
LOCATION:Columbia Restaurant\, 649 Front Street\, Celebration\, FL\, 34747\, United States
CATEGORIES:Social event
ATTACH;FMTTYPE=image/jpeg:https://celebrationveterans.com/wp-content/uploads/2025/07/IMG_0328-scaled.jpeg
ORGANIZER;CN="VCC Contributor":MAILTO:celebrationveterans@gmail.com
END:VEVENT
BEGIN:VEVENT
DTSTART;TZID=America/New_York:20250911T180000
DTEND;TZID=America/New_York:20250911T200000
DTSTAMP:20260419T124709
CREATED:20241230T033724Z
LAST-MODIFIED:20241230T033724Z
UID:2328-1757613600-1757620800@celebrationveterans.com
SUMMARY:September 11 2025 Monthly Meeting
DESCRIPTION:Join us at our September 11\, 2025 membership meeting at Windsor in the Celebration Center (see the location on the map below). All Veterans Club of Celebration members and new members are welcome. Pizza social begins at 6:00 PM with the meeting starting at 6:30 PM. We hope to see you there!
URL:https://celebrationveterans.com/event/september-11-2025-monthly-meeting/
LOCATION:Windsor at Celebration\, 1370 Celebration Blvd\, Celebration\, FL\, 34747\, United States
CATEGORIES:Meetings
ATTACH;FMTTYPE=image/jpeg:https://celebrationveterans.com/wp-content/uploads/2024/12/VeteransMonthlyMeeting.jpg
ORGANIZER;CN="VCC Contributor":MAILTO:celebrationveterans@gmail.com
END:VEVENT
BEGIN:VEVENT
DTSTART;TZID=America/New_York:20250916T090000
DTEND;TZID=America/New_York:20250916T110000
DTSTAMP:20260419T124709
CREATED:20241230T000407Z
LAST-MODIFIED:20250628T185851Z
UID:2255-1758013200-1758020400@celebrationveterans.com
SUMMARY:Outreach Visitation
DESCRIPTION:Please join us for our outreach visitation at the Windsor where we’ll be visiting our local veterans and give them the recognition they deserve! \nSign up here to confirm your attendance and we’ll coordinate the details with you. \nJoin in the respect and honor our veterans who served and join us!
URL:https://celebrationveterans.com/event/outreach-visitation-7/
LOCATION:Windsor at Celebration\, 1370 Celebration Blvd\, Celebration\, FL\, 34747\, United States
CATEGORIES:Event
ATTACH;FMTTYPE=image/jpeg:https://celebrationveterans.com/wp-content/uploads/2024/12/VeteransOutreach.jpg
ORGANIZER;CN="Veterans Outreach Comittee":MAILTO:celebrationvets@outlook.com
END:VEVENT
BEGIN:VEVENT
DTSTART;TZID=America/New_York:20250924T090000
DTEND;TZID=America/New_York:20250924T130000
DTSTAMP:20260419T124709
CREATED:20241230T003150Z
LAST-MODIFIED:20241230T003150Z
UID:2270-1758704400-1758718800@celebrationveterans.com
SUMMARY:Trip: Cemetary Coins at Canaveral National Cemetary
DESCRIPTION:Please join us on Wednesday\, September 24 at 9 AM at the Celebration Town Hall building (851 Celebration Ave\, Celebration – see map below) for a trip to the Canaveral National Cemetary (click here for the cemetery location) for the traditional of laying coins on veteran’s gravestones. Placing a coin on headstones of a service member or veteran is a show of respect and honor\, as well as letting the deceased service member’s family know someone was there. \nClick here to sign up. \nThe Cape Canaveral National Cemetery is a serene and tranquil final resting place\, nestled in the town of Mims\, Florida. As a part of the Department of Veterans Affairs’ National Cemetery Administration\, it serves as an important tribute to the service and sacrifice of the men and women who served in our country’s armed forces. The well-designed grounds of the cemetery cover an impressive 318 acres\, providing a combination of columbarium\, in-ground cremation\, and casket gravesites and serves the needs of more than 163\,000 veterans in the cemetery’s service area for the next 100 years. The cemetery offers a host of services including burials\, headstones\, markers\, and medallion services\, as well as Presidential Memorial Certificates. Visitors can pay their respects amidst a backdrop of native wildlife and pristine greenery\, reminding one of the ultimate sacrifices made by these brave heroes\, and the peace they’ve earned.
URL:https://celebrationveterans.com/event/trip-cemetary-coins-at-canaveral-national-cemetary-5/
LOCATION:Cape Canaveral Cemetary\, 5525 U.S. Highway 1\, North Mims\, FL\, 32754\, United States
CATEGORIES:Event
ATTACH;FMTTYPE=image/jpeg:https://celebrationveterans.com/wp-content/uploads/2024/12/Cape-Canaveral-National-Cemetery.jpg
ORGANIZER;CN="VCC Contributor":MAILTO:celebrationveterans@gmail.com
END:VEVENT
BEGIN:VEVENT
DTSTART;TZID=America/New_York:20250927T090000
DTEND;TZID=America/New_York:20250927T110000
DTSTAMP:20260419T124709
CREATED:20241230T000732Z
LAST-MODIFIED:20250307T163757Z
UID:2257-1758963600-1758970800@celebrationveterans.com
SUMMARY:Bi-Annual Breakfast at Shades of Green
DESCRIPTION:Come and join your friends and comrades at the Shades of Green Resort Restaurant on February 15\, 2025 and September 27\, 2025 at 9:00 AM. This fantastic event should last for about 1.5 hours and is hosted by the Veterans Club of Celebration. The Shades of Green Resort is located on Disney property at 1950 W Magnolia Palm Drive\, Lake Buena Vista. It’s a fabulous location and all your buddies will be there so don’t forget to put this event on your calendar and join us! \n Click here to register \nBreakfast Buffet\n13 Hot Items Each Day\nOn the Buffet – Eggs / Bacon / Sausage / Corned Beef Hash / Breakfast Potatoes / Breakfast Pastries\nMade to Order – Waffles / Pancakes / Omelets\nAdults – $19.95 / Children 5-11 – $11.95 / Kids 2-4 – FREE with a paying adult. \nMake sure you sign up for this event. Let us know your intent to join us\, click here to register and you’ll be signed up!
URL:https://celebrationveterans.com/event/bi-annual-breakfast-at-shades-of-green-3/
LOCATION:Shades of Green\, 1950 W Magnolia Palm Drive\, Lake Buena Vista\, FL\, 32830\, United States
CATEGORIES:Social event
ATTACH;FMTTYPE=image/jpeg:https://celebrationveterans.com/wp-content/uploads/2024/02/shadesofgreen1.jpg
ORGANIZER;CN="VCC Contributor":MAILTO:celebrationveterans@gmail.com
END:VEVENT
END:VCALENDAR